Back to Multiple platform build/check report for BioC 3.15
ABCDEFGHIJKL[M]NOPQRSTUVWXYZ

This page was generated on 2022-01-20 11:07:46 -0500 (Thu, 20 Jan 2022).

HostnameOSArch (*)R versionInstalled pkgs
nebbiolo1Linux (Ubuntu 20.04.4 LTS)x86_64R Under development (unstable) (2022-01-05 r81451) -- "Unsuffered Consequences" 4162
riesling1Windows Server 2019 Standardx64R Under development (unstable) (2021-11-21 r81221) -- "Unsuffered Consequences" 4057
palomino3Windows Server 2022 Datacenterx64R Under development (unstable) (2021-12-21 r81400 ucrt) -- "Unsuffered Consequences" 3999
merida1macOS 10.14.6 Mojavex86_64R Under development (unstable) (2022-01-05 r81451) -- "Unsuffered Consequences" 4116
Click on any hostname to see more info about the system (e.g. compilers)      (*) as reported by 'uname -p', except on Windows and Mac OS X

INSTALL results for missMethyl on riesling1


To the developers/maintainers of the missMethyl package:
- Please allow up to 24 hours (and sometimes 48 hours) for your latest push to git@git.bioconductor.org:packages/missMethyl.git to
reflect on this report. See How and When does the builder pull? When will my changes propagate? here for more information.
- Make sure to use the following settings in order to reproduce any error or warning you see on this page.

raw results

Package 1170/2074HostnameOS / ArchINSTALLBUILDCHECKBUILD BIN
missMethyl 1.29.0  (landing page)
Belinda Phipson
Snapshot Date: 2022-01-19 13:55:26 -0500 (Wed, 19 Jan 2022)
git_url: https://git.bioconductor.org/packages/missMethyl
git_branch: master
git_last_commit: 5792d48
git_last_commit_date: 2021-10-26 12:14:52 -0500 (Tue, 26 Oct 2021)
nebbiolo1Linux (Ubuntu 20.04.4 LTS) / x86_64  OK    OK    OK  UNNEEDED, same version is already published
riesling1Windows Server 2019 Standard / x64  OK    OK    OK    OK  
palomino3Windows Server 2022 Datacenter / x64  OK    OK    OK    OK  NO, package depends on 'AnnotationDbi' which is not available
merida1macOS 10.14.6 Mojave / x86_64  OK    OK    OK    OK  UNNEEDED, same version is already published

Summary

Package: missMethyl
Version: 1.29.0
Command: D:\biocbuild\bbs-3.15-bioc\R\bin\R.exe CMD INSTALL missMethyl
StartedAt: 2022-01-19 16:06:51 -0500 (Wed, 19 Jan 2022)
EndedAt: 2022-01-19 16:10:28 -0500 (Wed, 19 Jan 2022)
EllapsedTime: 216.7 seconds
RetCode: 0
Status:   OK  

Command output

##############################################################################
##############################################################################
###
### Running command:
###
###   D:\biocbuild\bbs-3.15-bioc\R\bin\R.exe CMD INSTALL missMethyl
###
##############################################################################
##############################################################################


* installing to library 'D:/biocbuild/bbs-3.15-bioc/R/library'
* installing *source* package 'missMethyl' ...
** using staged installation
** R
** inst
** byte-compile and prepare package for lazy loading
** help
*** installing help indices
  converting help for package 'missMethyl'
    finding HTML links ... done
    RUVadj                                  html  
    finding level-2 HTML links ... done

    RUVfit                                  html  
    SWAN                                    html  
    contrasts.varFit                        html  
    densityByProbeType                      html  
    getAdj                                  html  
    getINCs                                 html  
    getLeveneResiduals                      html  
    getMappedEntrezIDs                      html  
    gometh                                  html  
    goregion                                html  
    gsameth                                 html  
    gsaregion                               html  
    gsaseq                                  html  
    missMethyl-package                      html  
    topGSA                                  html  
    topRUV                                  html  
    topVar                                  html  
    varFit                                  html  
** building package indices
** installing vignettes
** testing if installed package can be loaded from temporary location
** testing if installed package can be loaded from final location
** testing if installed package keeps a record of temporary installation path
* DONE (missMethyl)
Making 'packages.html' ...Warning in packageDescription(i, lib.loc = lib, fields = "Title", encoding = "UTF-8") :
  DESCRIPTION file of package 'scruff' is missing or broken
 done