Back to Multiple platform build/check report for BioC 3.15
ABCDEFGHIJKL[M]NOPQRSTUVWXYZ

This page was generated on 2022-01-26 11:08:09 -0500 (Wed, 26 Jan 2022).

HostnameOSArch (*)R versionInstalled pkgs
nebbiolo1Linux (Ubuntu 20.04.4 LTS)x86_64R Under development (unstable) (2022-01-05 r81451) -- "Unsuffered Consequences" 4164
riesling1Windows Server 2019 Standardx64R Under development (unstable) (2021-11-21 r81221) -- "Unsuffered Consequences" 4059
palomino3Windows Server 2022 Datacenterx64R Under development (unstable) (2021-12-21 r81400 ucrt) -- "Unsuffered Consequences" 4001
merida1macOS 10.14.6 Mojavex86_64R Under development (unstable) (2022-01-05 r81451) -- "Unsuffered Consequences" 4118
Click on any hostname to see more info about the system (e.g. compilers)      (*) as reported by 'uname -p', except on Windows and Mac OS X

CHECK results for missMethyl on riesling1


To the developers/maintainers of the missMethyl package:
- Please allow up to 24 hours (and sometimes 48 hours) for your latest push to git@git.bioconductor.org:packages/missMethyl.git to
reflect on this report. See How and When does the builder pull? When will my changes propagate? here for more information.
- Make sure to use the following settings in order to reproduce any error or warning you see on this page.

raw results

Package 1170/2075HostnameOS / ArchINSTALLBUILDCHECKBUILD BIN
missMethyl 1.29.0  (landing page)
Belinda Phipson
Snapshot Date: 2022-01-25 13:55:17 -0500 (Tue, 25 Jan 2022)
git_url: https://git.bioconductor.org/packages/missMethyl
git_branch: master
git_last_commit: 5792d48
git_last_commit_date: 2021-10-26 12:14:52 -0500 (Tue, 26 Oct 2021)
nebbiolo1Linux (Ubuntu 20.04.4 LTS) / x86_64  OK    OK    OK  UNNEEDED, same version is already published
riesling1Windows Server 2019 Standard / x64  OK    OK    OK    OK  
palomino3Windows Server 2022 Datacenter / x64  OK    OK    OK    OK  NO, package depends on 'AnnotationDbi' which is not available
merida1macOS 10.14.6 Mojave / x86_64  OK    OK    OK    OK  UNNEEDED, same version is already published

Summary

Package: missMethyl
Version: 1.29.0
Command: D:\biocbuild\bbs-3.15-bioc\R\bin\R.exe CMD check --no-multiarch --install=check:missMethyl.install-out.txt --library=D:\biocbuild\bbs-3.15-bioc\R\library --no-vignettes --timings missMethyl_1.29.0.tar.gz
StartedAt: 2022-01-25 19:30:10 -0500 (Tue, 25 Jan 2022)
EndedAt: 2022-01-25 19:48:39 -0500 (Tue, 25 Jan 2022)
EllapsedTime: 1109.1 seconds
RetCode: 0
Status:   OK  
CheckDir: missMethyl.Rcheck
Warnings: 0

Command output

##############################################################################
##############################################################################
###
### Running command:
###
###   D:\biocbuild\bbs-3.15-bioc\R\bin\R.exe CMD check --no-multiarch --install=check:missMethyl.install-out.txt --library=D:\biocbuild\bbs-3.15-bioc\R\library --no-vignettes --timings missMethyl_1.29.0.tar.gz
###
##############################################################################
##############################################################################


* using log directory 'D:/biocbuild/bbs-3.15-bioc/meat/missMethyl.Rcheck'
* using R Under development (unstable) (2021-11-21 r81221)
* using platform: x86_64-w64-mingw32 (64-bit)
* using session charset: ISO8859-1
* using option '--no-vignettes'
* checking for file 'missMethyl/DESCRIPTION' ... OK
* checking extension type ... Package
* this is package 'missMethyl' version '1.29.0'
* package encoding: UTF-8
* checking package namespace information ... OK
* checking package dependencies ... OK
* checking if this is a source package ... OK
* checking if there is a namespace ... OK
* checking for hidden files and directories ... OK
* checking for portable file names ... OK
* checking whether package 'missMethyl' can be installed ... OK
* checking installed package size ... OK
* checking package directory ... OK
* checking 'build' directory ... OK
* checking DESCRIPTION meta-information ... OK
* checking top-level files ... OK
* checking for left-over files ... OK
* checking index information ... OK
* checking package subdirectories ... OK
* checking R files for non-ASCII characters ... OK
* checking R files for syntax errors ... OK
* checking whether the package can be loaded ... OK
* checking whether the package can be loaded with stated dependencies ... OK
* checking whether the package can be unloaded cleanly ... OK
* checking whether the namespace can be loaded with stated dependencies ... OK
* checking whether the namespace can be unloaded cleanly ... OK
* checking dependencies in R code ... OK
* checking S3 generic/method consistency ... OK
* checking replacement functions ... OK
* checking foreign function calls ... OK
* checking R code for possible problems ... NOTE
goregion: no visible global function definition for 'seqlevelsStyle<-'
Undefined global functions or variables:
  seqlevelsStyle<-
* checking Rd files ... OK
* checking Rd metadata ... OK
* checking Rd cross-references ... OK
* checking for missing documentation entries ... OK
* checking for code/documentation mismatches ... OK
* checking Rd \usage sections ... OK
* checking Rd contents ... OK
* checking for unstated dependencies in examples ... OK
* checking files in 'vignettes' ... OK
* checking examples ... OK
Examples with CPU (user + system) or elapsed time > 5s
                    user system elapsed
RUVadj             26.07   3.75   29.81
SWAN               24.21   4.92   29.14
topRUV             22.45   2.06   24.52
getAdj             19.20   2.64   21.84
RUVfit             16.70   2.10   18.80
topGSA             15.93   1.34   17.27
densityByProbeType  9.49   2.56   12.05
* checking for unstated dependencies in vignettes ... OK
* checking package vignettes in 'inst/doc' ... OK
* checking running R code from vignettes ... SKIPPED
* checking re-building of vignette outputs ... SKIPPED
* checking PDF version of manual ... OK
* DONE

Status: 1 NOTE
See
  'D:/biocbuild/bbs-3.15-bioc/meat/missMethyl.Rcheck/00check.log'
for details.



Installation output

missMethyl.Rcheck/00install.out

##############################################################################
##############################################################################
###
### Running command:
###
###   D:\biocbuild\bbs-3.15-bioc\R\bin\R.exe CMD INSTALL missMethyl
###
##############################################################################
##############################################################################


* installing to library 'D:/biocbuild/bbs-3.15-bioc/R/library'
* installing *source* package 'missMethyl' ...
** using staged installation
** R
** inst
** byte-compile and prepare package for lazy loading
** help
*** installing help indices
  converting help for package 'missMethyl'
    finding HTML links ... done
    RUVadj                                  html  
    finding level-2 HTML links ... done

    RUVfit                                  html  
    SWAN                                    html  
    contrasts.varFit                        html  
    densityByProbeType                      html  
    getAdj                                  html  
    getINCs                                 html  
    getLeveneResiduals                      html  
    getMappedEntrezIDs                      html  
    gometh                                  html  
    goregion                                html  
    gsameth                                 html  
    gsaregion                               html  
    gsaseq                                  html  
    missMethyl-package                      html  
    topGSA                                  html  
    topRUV                                  html  
    topVar                                  html  
    varFit                                  html  
** building package indices
** installing vignettes
** testing if installed package can be loaded from temporary location
** testing if installed package can be loaded from final location
** testing if installed package keeps a record of temporary installation path
* DONE (missMethyl)
Making 'packages.html' ...Warning in packageDescription(i, lib.loc = lib, fields = "Title", encoding = "UTF-8") :
  DESCRIPTION file of package 'censcyt' is missing or broken
Warning in packageDescription(i, lib.loc = lib, fields = "Title", encoding = "UTF-8") :
  DESCRIPTION file of package 'treekoR' is missing or broken
 done

Tests output


Example timings

missMethyl.Rcheck/missMethyl-Ex.timings

nameusersystemelapsed
RUVadj26.07 3.7529.81
RUVfit16.7 2.118.8
SWAN24.21 4.9229.14
contrasts.varFit0.050.000.05
densityByProbeType 9.49 2.5612.05
getAdj19.20 2.6421.84
getINCs0.230.020.25
getLeveneResiduals0.020.000.02
getMappedEntrezIDs000
gometh000
goregion000
gsameth000
gsaregion000
gsaseq000
topGSA15.93 1.3417.27
topRUV22.45 2.0624.52
topVar0.010.000.01
varFit000