Index of /checkResults/devel/bioc-LATEST/mirIntegrator/raw-results/kunpeng2

[ICO]NameLast modifiedSizeDescription

[DIR]Parent Directory  -  
[   ]install-summary.dcf27-Feb-2024 04:02 283  
[   ]buildsrc-summary.dcf27-Feb-2024 04:02 447  
[   ]checksrc-summary.dcf27-Feb-2024 04:02 477  
[TXT]buildsrc-out.txt27-Feb-2024 04:02 905  
[TXT]install-out.txt27-Feb-2024 04:02 1.0K 
[TXT]checksrc-out.txt27-Feb-2024 04:02 4.6K