![]() | Name | Last modified | Size | Description |
---|---|---|---|---|
![]() | Parent Directory | - | ||
![]() | buildsrc-out.txt | 08-Dec-2023 01:39 | 902 | |
![]() | buildsrc-summary.dcf | 08-Dec-2023 01:39 | 444 | |
![]() | checksrc-out.txt | 08-Dec-2023 01:39 | 4.6K | |
![]() | checksrc-summary.dcf | 08-Dec-2023 01:39 | 471 | |
![]() | install-out.txt | 08-Dec-2023 01:39 | 1.0K | |
![]() | install-summary.dcf | 08-Dec-2023 01:39 | 280 | |