Back to Multiple platform build/check report for BioC 3.14
ABCDEFGHIJKL[M]NOPQRSTUVWXYZ

This page was generated on 2021-10-22 12:04:33 -0400 (Fri, 22 Oct 2021).

INSTALL results for miloR on riesling1

To the developers/maintainers of the miloR package:
- Please allow up to 24 hours (and sometimes 48 hours) for your latest push to git@git.bioconductor.org:packages/miloR.git to
reflect on this report. See How and When does the builder pull? When will my changes propagate? here for more information.
- Make sure to use the following settings in order to reproduce any error or warning you see on this page.

raw results

Package 1146/2075HostnameOS / ArchINSTALLBUILDCHECKBUILD BIN
miloR 1.1.0  (landing page)
Mike Morgan
Snapshot Date: 2021-10-21 14:50:08 -0400 (Thu, 21 Oct 2021)
git_url: https://git.bioconductor.org/packages/miloR
git_branch: master
git_last_commit: 422acff
git_last_commit_date: 2021-10-12 08:48:39 -0400 (Tue, 12 Oct 2021)
nebbiolo2Linux (Ubuntu 20.04.2 LTS) / x86_64  OK    OK    OK  UNNEEDED, same version is already published
riesling1Windows Server 2019 Standard / x64  OK    ERROR  skippedskipped
merida1macOS 10.14.6 Mojave / x86_64  OK    OK    OK    NA  

Summary

Package: miloR
Version: 1.1.0
Command: C:\cygwin\bin\curl.exe -O http://155.52.207.166/BBS/3.14/bioc/src/contrib/miloR_1.1.0.tar.gz && rm -rf miloR.buildbin-libdir && mkdir miloR.buildbin-libdir && D:\biocbuild\bbs-3.14-bioc\R\bin\R.exe CMD INSTALL --merge-multiarch --build --library=miloR.buildbin-libdir miloR_1.1.0.tar.gz && D:\biocbuild\bbs-3.14-bioc\R\bin\R.exe CMD INSTALL miloR_1.1.0.zip && rm miloR_1.1.0.tar.gz miloR_1.1.0.zip
StartedAt: 2021-10-21 18:13:58 -0400 (Thu, 21 Oct 2021)
EndedAt: 2021-10-21 18:16:59 -0400 (Thu, 21 Oct 2021)
EllapsedTime: 181.1 seconds
RetCode: 0
Status:   OK  

Command output

##############################################################################
##############################################################################
###
### Running command:
###
###   C:\cygwin\bin\curl.exe -O http://155.52.207.166/BBS/3.14/bioc/src/contrib/miloR_1.1.0.tar.gz && rm -rf miloR.buildbin-libdir && mkdir miloR.buildbin-libdir && D:\biocbuild\bbs-3.14-bioc\R\bin\R.exe CMD INSTALL --merge-multiarch --build --library=miloR.buildbin-libdir miloR_1.1.0.tar.gz && D:\biocbuild\bbs-3.14-bioc\R\bin\R.exe CMD INSTALL miloR_1.1.0.zip && rm miloR_1.1.0.tar.gz miloR_1.1.0.zip
###
##############################################################################
##############################################################################


  % Total    % Received % Xferd  Average Speed   Time    Time     Time  Current
                                 Dload  Upload   Total   Spent    Left  Speed

  0     0    0     0    0     0      0      0 --:--:-- --:--:-- --:--:--     0
 48 5825k   48 2847k    0     0  3489k      0  0:00:01 --:--:--  0:00:01 3489k
100 5825k  100 5825k    0     0  4341k      0  0:00:01  0:00:01 --:--:-- 4341k

install for i386

* installing *source* package 'miloR' ...
** using staged installation
** R
** data
** byte-compile and prepare package for lazy loading
Creating a new generic function for 'graph' in package 'miloR'
** help
*** installing help indices
  converting help for package 'miloR'
    finding HTML links ... done
    Milo                                    html  
    finding level-2 HTML links ... done

    annotateNhoods                          html  
    buildFromAdjacency                      html  
    buildGraph                              html  
    buildNhoodGraph                         html  
    calcNhoodDistance                       html  
    calcNhoodExpression                     html  
    countCells                              html  
    findNhoodGroupMarkers                   html  
    findNhoodMarkers                        html  
    graphSpatialFDR                         html  
    groupNhoods                             html  
    makeNhoods                              html  
    matrixORMatrix-class                    html  
    methods                                 html  
    miloR-package                           html  
    plotDAbeeswarm                          html  
    plotNhoodExpressionDA                   html  
    plotNhoodGraph                          html  
    plotNhoodGraphDA                        html  
    plotNhoodMA                             html  
    plotNhoodSizeHist                       html  
    sim_discrete                            html  
    sim_trajectory                          html  
    testDiffExp                             html  
    testNhoods                              html  
** building package indices
** installing vignettes
** testing if installed package can be loaded from temporary location
** testing if installed package can be loaded from final location
** testing if installed package keeps a record of temporary installation path

install for x64

* installing *source* package 'miloR' ...
** testing if installed package can be loaded
* MD5 sums
packaged installation of 'miloR' as miloR_1.1.0.zip
* DONE (miloR)
* installing to library 'D:/biocbuild/bbs-3.14-bioc/R/library'
package 'miloR' successfully unpacked and MD5 sums checked