Back to Multiple platform build/check report for BioC 3.14
ABCDEFGHIJKL[M]NOPQRSTUVWXYZ

This page was generated on 2021-10-20 12:05:15 -0400 (Wed, 20 Oct 2021).

BUILD results for miloR on riesling1

To the developers/maintainers of the miloR package:
- Please allow up to 24 hours (and sometimes 48 hours) for your latest push to git@git.bioconductor.org:packages/miloR.git to
reflect on this report. See How and When does the builder pull? When will my changes propagate? here for more information.
- Make sure to use the following settings in order to reproduce any error or warning you see on this page.

raw results

Package 1145/2072HostnameOS / ArchINSTALLBUILDCHECKBUILD BIN
miloR 1.1.0  (landing page)
Mike Morgan
Snapshot Date: 2021-10-19 14:50:04 -0400 (Tue, 19 Oct 2021)
git_url: https://git.bioconductor.org/packages/miloR
git_branch: master
git_last_commit: 422acff
git_last_commit_date: 2021-10-12 08:48:39 -0400 (Tue, 12 Oct 2021)
nebbiolo2Linux (Ubuntu 20.04.2 LTS) / x86_64  OK    ERROR  skipped
riesling1Windows Server 2019 Standard / x64  OK    OK    OK    OK  UNNEEDED, same version is already published
merida1macOS 10.14.6 Mojave / x86_64  OK    ERROR  skippedskipped

Summary

Package: miloR
Version: 1.1.0
Command: chmod a+r miloR -R && D:\biocbuild\bbs-3.14-bioc\R\bin\R.exe CMD build --keep-empty-dirs --no-resave-data miloR
StartedAt: 2021-10-19 22:05:34 -0400 (Tue, 19 Oct 2021)
EndedAt: 2021-10-19 22:14:23 -0400 (Tue, 19 Oct 2021)
EllapsedTime: 529.1 seconds
RetCode: 0
Status:   OK  
PackageFile: miloR_1.1.0.tar.gz
PackageFileSize: 4.333 MiB

Command output

##############################################################################
##############################################################################
###
### Running command:
###
###   chmod a+r miloR -R && D:\biocbuild\bbs-3.14-bioc\R\bin\R.exe CMD build --keep-empty-dirs --no-resave-data miloR
###
##############################################################################
##############################################################################


* checking for file 'miloR/DESCRIPTION' ... OK
* preparing 'miloR':
* checking DESCRIPTION meta-information ... OK
* installing the package to build vignettes
* creating vignettes ... OK
* checking for LF line-endings in source and make files and shell scripts
* checking for empty or unneeded directories
* looking to see if a 'data/datalist' file should be added
* building 'miloR_1.1.0.tar.gz'