Name | Last modified | Size | Description | |
---|---|---|---|---|
Parent Directory | - | |||
buildsrc-out.txt | 29-Mar-2024 00:36 | 652 | ||
buildsrc-summary.dcf | 29-Mar-2024 00:36 | 337 | ||
checksrc-out.txt | 04-Jan-2024 02:21 | 6.8K | ||
checksrc-summary.dcf | 04-Jan-2024 02:21 | 418 | ||
install-out.txt | 29-Mar-2024 00:36 | 15K | ||
install-summary.dcf | 29-Mar-2024 00:36 | 257 | ||