Index of /checkResults/devel/bioc-LATEST/miloR/raw-results/kunpeng2
Name
Last modified
Size
Description
Parent Directory
-
buildsrc-out.txt
29-Mar-2024 00:40
661
buildsrc-summary.dcf
29-Mar-2024 00:40
346
install-out.txt
29-Mar-2024 00:40
15K
install-summary.dcf
29-Mar-2024 00:40
266