Name | Last modified | Size | Description | |
---|---|---|---|---|
Parent Directory | - | |||
buildbin-summary.dcf | 28-Jul-2024 00:40 | 570 | ||
buildbin-out.txt | 28-Jul-2024 00:40 | 1.2K | ||
checksrc-summary.dcf | 28-Jul-2024 00:40 | 487 | ||
checksrc-out.txt | 28-Jul-2024 00:40 | 4.6K | ||
buildsrc-summary.dcf | 28-Jul-2024 00:40 | 488 | ||
buildsrc-out.txt | 28-Jul-2024 00:40 | 944 | ||
install-summary.dcf | 28-Jul-2024 00:40 | 287 | ||
install-out.txt | 28-Jul-2024 00:40 | 1.0K | ||