Name | Last modified | Size | Description | |
---|---|---|---|---|
Parent Directory | - | |||
buildbin-out.txt | 12-Jun-2024 04:40 | 1.2K | ||
buildbin-summary.dcf | 12-Jun-2024 04:40 | 569 | ||
checksrc-summary.dcf | 12-Jun-2024 04:40 | 487 | ||
checksrc-out.txt | 12-Jun-2024 04:40 | 4.6K | ||
buildsrc-summary.dcf | 12-Jun-2024 04:40 | 488 | ||
buildsrc-out.txt | 12-Jun-2024 04:40 | 944 | ||
install-out.txt | 12-Jun-2024 04:40 | 1.0K | ||
install-summary.dcf | 12-Jun-2024 04:40 | 286 | ||