Name | Last modified | Size | Description | |
---|---|---|---|---|
Parent Directory | - | |||
checksrc-out.txt | 28-Jul-2024 00:38 | 4.5K | ||
checksrc-summary.dcf | 28-Jul-2024 00:38 | 454 | ||
buildsrc-summary.dcf | 28-Jul-2024 00:38 | 451 | ||
buildsrc-out.txt | 28-Jul-2024 00:38 | 929 | ||
install-summary.dcf | 28-Jul-2024 00:38 | 277 | ||
install-out.txt | 28-Jul-2024 00:38 | 1.0K | ||