Name | Last modified | Size | Description | |
---|---|---|---|---|
Parent Directory | - | |||
install-summary.dcf | 28-Jul-2024 00:41 | 287 | ||
install-out.txt | 28-Jul-2024 00:41 | 1.0K | ||
checksrc-summary.dcf | 28-Jul-2024 00:41 | 484 | ||
checksrc-out.txt | 28-Jul-2024 00:41 | 4.7K | ||
buildsrc-summary.dcf | 28-Jul-2024 00:41 | 455 | ||
buildsrc-out.txt | 28-Jul-2024 00:41 | 915 | ||
buildbin-summary.dcf | 28-Jul-2024 00:41 | 584 | ||
buildbin-out.txt | 28-Jul-2024 00:41 | 1.2K | ||