Index of /checkResults/devel/bioc-LATEST/microbiomeExplorer/raw-results/palomino3

[ICO]NameLast modifiedSizeDescription

[DIR]Parent Directory  -  
[TXT]buildbin-out.txt23-Feb-2024 02:48 1.2K 
[   ]buildbin-summary.dcf23-Feb-2024 02:48 581  
[TXT]buildsrc-out.txt23-Feb-2024 02:48 894  
[   ]buildsrc-summary.dcf23-Feb-2024 02:48 496  
[TXT]checksrc-out.txt23-Feb-2024 02:48 3.4K 
[   ]checksrc-summary.dcf23-Feb-2024 02:48 491  
[TXT]install-out.txt23-Feb-2024 02:48 1.0K 
[   ]install-summary.dcf23-Feb-2024 02:48 290