Index of /checkResults/devel/bioc-LATEST/microbiomeExplorer/raw-results/nebbiolo1

[ICO]NameLast modifiedSizeDescription

[DIR]Parent Directory  -  
[TXT]buildsrc-out.txt02-Mar-2024 01:36 850  
[   ]buildsrc-summary.dcf02-Mar-2024 01:36 450  
[TXT]checksrc-out.txt02-Mar-2024 01:36 3.2K 
[   ]checksrc-summary.dcf02-Mar-2024 01:36 458  
[TXT]install-out.txt02-Mar-2024 01:36 1.0K 
[   ]install-summary.dcf02-Mar-2024 01:36 281