Index of /checkResults/devel/bioc-LATEST/microbiomeExplorer/raw-results/merida1

[ICO]NameLast modifiedSizeDescription

[DIR]Parent Directory  -  
[TXT]buildbin-out.txt18-Feb-2024 16:28 1.2K 
[   ]buildbin-summary.dcf18-Feb-2024 16:28 595  
[TXT]buildsrc-out.txt18-Feb-2024 16:28 860  
[   ]buildsrc-summary.dcf18-Feb-2024 16:28 460  
[TXT]checksrc-out.txt18-Feb-2024 16:28 3.5K 
[   ]checksrc-summary.dcf18-Feb-2024 16:28 488  
[TXT]install-out.txt18-Feb-2024 16:28 1.0K 
[   ]install-summary.dcf18-Feb-2024 16:28 291