![]() | Name | Last modified | Size | Description |
---|---|---|---|---|
![]() | Parent Directory | - | ||
![]() | buildsrc-out.txt | 07-Dec-2023 01:39 | 859 | |
![]() | buildsrc-summary.dcf | 07-Dec-2023 01:39 | 458 | |
![]() | checksrc-out.txt | 07-Dec-2023 01:39 | 3.5K | |
![]() | checksrc-summary.dcf | 07-Dec-2023 01:39 | 491 | |
![]() | install-out.txt | 07-Dec-2023 01:39 | 1.0K | |
![]() | install-summary.dcf | 07-Dec-2023 01:39 | 290 | |