Back to Multiple platform build/check report for BioC 3.18:   simplified   long
ABCDEFGHIJKL[M]NOPQRSTUVWXYZ

This page was generated on 2023-10-03 11:38:11 -0400 (Tue, 03 Oct 2023).

HostnameOSArch (*)R versionInstalled pkgs
nebbiolo2Linux (Ubuntu 22.04.2 LTS)x86_644.3.1 (2023-06-16) -- "Beagle Scouts" 4669
palomino4Windows Server 2022 Datacenterx644.3.1 (2023-06-16 ucrt) -- "Beagle Scouts" 4405
lconwaymacOS 12.6.5 Montereyx86_644.3.1 Patched (2023-06-17 r84564) -- "Beagle Scouts" 4424
kunpeng2Linux (openEuler 22.03 LTS-SP1)aarch644.3.1 (2023-06-16) -- "Beagle Scouts" 4410
Click on any hostname to see more info about the system (e.g. compilers)      (*) as reported by 'uname -p', except on Windows and Mac OS X

Package 1236/2239HostnameOS / ArchINSTALLBUILDCHECKBUILD BIN
microbiomeExplorer 1.11.0  (landing page)
Janina Reeder
Snapshot Date: 2023-10-02 14:05:08 -0400 (Mon, 02 Oct 2023)
git_url: https://git.bioconductor.org/packages/microbiomeExplorer
git_branch: devel
git_last_commit: e2d3954
git_last_commit_date: 2023-04-25 11:23:38 -0400 (Tue, 25 Apr 2023)
nebbiolo2Linux (Ubuntu 22.04.2 LTS) / x86_64  OK    OK    OK  UNNEEDED, same version is already published
palomino4Windows Server 2022 Datacenter / x64  OK    OK    OK    OK  UNNEEDED, same version is already published
lconwaymacOS 12.6.5 Monterey / x86_64  OK    OK    OK    OK  UNNEEDED, same version is already published
kunpeng2Linux (openEuler 22.03 LTS-SP1) / aarch64  OK    OK    OK  

BUILD results for microbiomeExplorer on palomino4


To the developers/maintainers of the microbiomeExplorer package:
- Allow up to 24 hours (and sometimes 48 hours) for your latest push to git@git.bioconductor.org:packages/microbiomeExplorer.git to reflect on this report. See Troubleshooting Build Report for more information.
- Use the following Renviron settings to reproduce errors and warnings.
- If 'R CMD check' started to fail recently on the Linux builder(s) over a missing dependency, add the missing dependency to 'Suggests:' in your DESCRIPTION file. See Renviron.bioc for more information.

raw results


Summary

Package: microbiomeExplorer
Version: 1.11.0
Command: chmod a+r microbiomeExplorer -R && F:\biocbuild\bbs-3.18-bioc\R\bin\R.exe CMD build --keep-empty-dirs --no-resave-data microbiomeExplorer
StartedAt: 2023-10-02 19:52:59 -0400 (Mon, 02 Oct 2023)
EndedAt: 2023-10-02 19:53:45 -0400 (Mon, 02 Oct 2023)
EllapsedTime: 45.1 seconds
RetCode: 0
Status:   OK  
PackageFile: microbiomeExplorer_1.11.0.tar.gz
PackageFileSize: 2.976 MiB

Command output

##############################################################################
##############################################################################
###
### Running command:
###
###   chmod a+r microbiomeExplorer -R && F:\biocbuild\bbs-3.18-bioc\R\bin\R.exe CMD build --keep-empty-dirs --no-resave-data microbiomeExplorer
###
##############################################################################
##############################################################################


* checking for file 'microbiomeExplorer/DESCRIPTION' ... OK
* preparing 'microbiomeExplorer':
* checking DESCRIPTION meta-information ... OK
* installing the package to build vignettes
* creating vignettes ... OK
* checking for LF line-endings in source and make files and shell scripts
* checking for empty or unneeded directories
* building 'microbiomeExplorer_1.11.0.tar.gz'