Index of /checkResults/devel/bioc-LATEST/microSTASIS/raw-results/palomino4
Name
Last modified
Size
Description
Parent Directory
-
buildsrc-out.txt
04-Oct-2023 00:38
1.1K
buildsrc-summary.dcf
04-Oct-2023 00:38
379
install-out.txt
04-Oct-2023 00:38
1.1K
install-summary.dcf
04-Oct-2023 00:38
274