Index of /checkResults/devel/bioc-LATEST/microSTASIS/raw-results/palomino3
Name
Last modified
Size
Description
Parent Directory
-
buildsrc-out.txt
29-Mar-2024 00:38
1.1K
buildsrc-summary.dcf
29-Mar-2024 00:38
379
install-out.txt
29-Mar-2024 00:38
1.1K
install-summary.dcf
29-Mar-2024 00:38
274