![]() | Name | Last modified | Size | Description |
---|---|---|---|---|
![]() | Parent Directory | - | ||
![]() | buildbin-out.txt | 26-Sep-2023 00:39 | 1.3K | |
![]() | buildbin-summary.dcf | 26-Sep-2023 00:39 | 550 | |
![]() | buildsrc-out.txt | 26-Sep-2023 00:39 | 894 | |
![]() | buildsrc-summary.dcf | 26-Sep-2023 00:39 | 437 | |
![]() | checksrc-out.txt | 26-Sep-2023 00:39 | 4.0K | |
![]() | checksrc-summary.dcf | 26-Sep-2023 00:39 | 458 | |
![]() | install-out.txt | 26-Sep-2023 00:39 | 1.1K | |
![]() | install-summary.dcf | 26-Sep-2023 00:39 | 275 | |