Index of /checkResults/devel/bioc-LATEST/microSTASIS/raw-results
Name
Last modified
Size
Description
Parent Directory
-
info.dcf
28-Sep-2023 00:40
292
kunpeng2/
28-Sep-2023 00:40
-
lconway/
28-Sep-2023 00:39
-
nebbiolo2/
28-Sep-2023 00:36
-
palomino4/
28-Sep-2023 00:38
-