Back to Multiple platform build/check report for BioC 3.15
ABCDEFGHIJKL[M]NOPQRSTUVWXYZ

This page was generated on 2022-01-15 11:08:03 -0500 (Sat, 15 Jan 2022).

HostnameOSArch (*)R versionInstalled pkgs
nebbiolo1Linux (Ubuntu 20.04.4 LTS)x86_64R Under development (unstable) (2022-01-05 r81451) -- "Unsuffered Consequences" 4160
riesling1Windows Server 2019 Standardx64R Under development (unstable) (2021-11-21 r81221) -- "Unsuffered Consequences" 4055
palomino3Windows Server 2022 Datacenterx64R Under development (unstable) (2021-12-21 r81400 ucrt) -- "Unsuffered Consequences" 3997
merida1macOS 10.14.6 Mojavex86_64R Under development (unstable) (2022-01-05 r81451) -- "Unsuffered Consequences" 4114
Click on any hostname to see more info about the system (e.g. compilers)      (*) as reported by 'uname -p', except on Windows and Mac OS X

BUILD BIN results for miRNAtap on riesling1


To the developers/maintainers of the miRNAtap package:
- Please allow up to 24 hours (and sometimes 48 hours) for your latest push to git@git.bioconductor.org:packages/miRNAtap.git to
reflect on this report. See How and When does the builder pull? When will my changes propagate? here for more information.
- Make sure to use the following settings in order to reproduce any error or warning you see on this page.

raw results

Package 1166/2074HostnameOS / ArchINSTALLBUILDCHECKBUILD BIN
miRNAtap 1.29.0  (landing page)
T. Ian Simpson
Snapshot Date: 2022-01-14 13:55:18 -0500 (Fri, 14 Jan 2022)
git_url: https://git.bioconductor.org/packages/miRNAtap
git_branch: master
git_last_commit: 424361e
git_last_commit_date: 2021-10-26 12:15:11 -0500 (Tue, 26 Oct 2021)
nebbiolo1Linux (Ubuntu 20.04.4 LTS) / x86_64  OK    OK    OK  UNNEEDED, same version is already published
riesling1Windows Server 2019 Standard / x64  OK    OK    OK    OK  
palomino3Windows Server 2022 Datacenter / x64  OK    OK    OK    OK  NO, package depends on 'AnnotationDbi' which is not available
merida1macOS 10.14.6 Mojave / x86_64  OK    OK    OK    OK  UNNEEDED, same version is already published

Summary

Package: miRNAtap
Version: 1.29.0
Command: rm -rf miRNAtap.buildbin-libdir && mkdir miRNAtap.buildbin-libdir && D:\biocbuild\bbs-3.15-bioc\R\bin\R.exe CMD INSTALL --build --library=miRNAtap.buildbin-libdir miRNAtap_1.29.0.tar.gz
StartedAt: 2022-01-14 21:08:38 -0500 (Fri, 14 Jan 2022)
EndedAt: 2022-01-14 21:09:51 -0500 (Fri, 14 Jan 2022)
EllapsedTime: 73.1 seconds
RetCode: 0
Status:   OK  
PackageFile: miRNAtap_1.29.0.zip
PackageFileSize: 387.8 KiB

Command output

##############################################################################
##############################################################################
###
### Running command:
###
###   rm -rf miRNAtap.buildbin-libdir && mkdir miRNAtap.buildbin-libdir && D:\biocbuild\bbs-3.15-bioc\R\bin\R.exe CMD INSTALL --build --library=miRNAtap.buildbin-libdir miRNAtap_1.29.0.tar.gz
###
##############################################################################
##############################################################################


* installing *source* package 'miRNAtap' ...
** using staged installation
** R
** inst
** byte-compile and prepare package for lazy loading
** help
*** installing help indices
  converting help for package 'miRNAtap'
    finding HTML links ... done
    MirnaDb-class                           html  
    aggregateRanks                          html  
    getPredictedTargets                     html  
    getTargetsFromSource                    html  
    miRNAtap                                html  
    translate                               html  
** building package indices
** installing vignettes
** testing if installed package can be loaded from temporary location
** testing if installed package can be loaded from final location
** testing if installed package keeps a record of temporary installation path
* MD5 sums
packaged installation of 'miRNAtap' as miRNAtap_1.29.0.zip
* DONE (miRNAtap)