![]() | Name | Last modified | Size | Description |
---|---|---|---|---|
![]() | Parent Directory | - | ||
![]() | buildbin-out.txt | 19-Aug-2022 00:06 | 1.1K | |
![]() | buildbin-summary.dcf | 19-Aug-2022 00:06 | 539 | |
![]() | buildsrc-out.txt | 19-Aug-2022 00:06 | 844 | |
![]() | buildsrc-summary.dcf | 19-Aug-2022 00:06 | 456 | |
![]() | checksrc-out.txt | 19-Aug-2022 00:06 | 3.7K | |
![]() | checksrc-summary.dcf | 19-Aug-2022 00:06 | 454 | |
![]() | install-out.txt | 19-Aug-2022 00:06 | 1.8K | |
![]() | install-summary.dcf | 19-Aug-2022 00:06 | 637 | |