Index of /checkResults/devel/bioc-LATEST/miRNAtap/raw-results/nebbiolo2

[ICO]NameLast modifiedSizeDescription

[DIR]Parent Directory  -  
[TXT]buildsrc-out.txt01-Jul-2022 00:05 810  
[   ]buildsrc-summary.dcf01-Jul-2022 00:05 420  
[TXT]checksrc-out.txt01-Jul-2022 00:05 3.7K 
[   ]checksrc-summary.dcf01-Jul-2022 00:05 428  
[TXT]install-out.txt01-Jul-2022 00:05 942  
[   ]install-summary.dcf01-Jul-2022 00:05 261