Index of /checkResults/devel/bioc-LATEST/miRNAtap/raw-results/lconway

[ICO]NameLast modifiedSizeDescription

[DIR]Parent Directory  -  
[TXT]buildbin-out.txt25-Jun-2022 00:08 1.2K 
[   ]buildbin-summary.dcf25-Jun-2022 00:08 536  
[TXT]buildsrc-out.txt25-Jun-2022 00:08 820  
[   ]buildsrc-summary.dcf25-Jun-2022 00:08 430  
[TXT]checksrc-out.txt25-Jun-2022 00:08 3.8K 
[   ]checksrc-summary.dcf25-Jun-2022 00:08 448  
[TXT]install-out.txt25-Jun-2022 00:08 1.0K 
[   ]install-summary.dcf25-Jun-2022 00:08 271