Back to Multiple platform build/check report for BioC 3.15
ABCDEFGHIJKL[M]NOPQRSTUVWXYZ

This page was generated on 2022-01-21 11:08:01 -0500 (Fri, 21 Jan 2022).

HostnameOSArch (*)R versionInstalled pkgs
nebbiolo1Linux (Ubuntu 20.04.4 LTS)x86_64R Under development (unstable) (2022-01-05 r81451) -- "Unsuffered Consequences" 4163
riesling1Windows Server 2019 Standardx64R Under development (unstable) (2021-11-21 r81221) -- "Unsuffered Consequences" 4058
palomino3Windows Server 2022 Datacenterx64R Under development (unstable) (2021-12-21 r81400 ucrt) -- "Unsuffered Consequences" 4000
merida1macOS 10.14.6 Mojavex86_64R Under development (unstable) (2022-01-05 r81451) -- "Unsuffered Consequences" 4117
Click on any hostname to see more info about the system (e.g. compilers)      (*) as reported by 'uname -p', except on Windows and Mac OS X

BUILD BIN results for miRNAmeConverter on riesling1


To the developers/maintainers of the miRNAmeConverter package:
- Please allow up to 24 hours (and sometimes 48 hours) for your latest push to git@git.bioconductor.org:packages/miRNAmeConverter.git to
reflect on this report. See How and When does the builder pull? When will my changes propagate? here for more information.
- Make sure to use the following settings in order to reproduce any error or warning you see on this page.

raw results

Package 1164/2075HostnameOS / ArchINSTALLBUILDCHECKBUILD BIN
miRNAmeConverter 1.23.0  (landing page)
Stefan J. Haunsberger
Snapshot Date: 2022-01-20 13:55:17 -0500 (Thu, 20 Jan 2022)
git_url: https://git.bioconductor.org/packages/miRNAmeConverter
git_branch: master
git_last_commit: 986d928
git_last_commit_date: 2021-10-26 12:26:05 -0500 (Tue, 26 Oct 2021)
nebbiolo1Linux (Ubuntu 20.04.4 LTS) / x86_64  OK    OK    WARNINGS  UNNEEDED, same version is already published
riesling1Windows Server 2019 Standard / x64  OK    OK    WARNINGS    OK  
palomino3Windows Server 2022 Datacenter / x64  OK    OK    WARNINGS    OK  NO, package depends on 'AnnotationDbi' which is not available
merida1macOS 10.14.6 Mojave / x86_64  OK    OK    WARNINGS    OK  UNNEEDED, same version is already published

Summary

Package: miRNAmeConverter
Version: 1.23.0
Command: rm -rf miRNAmeConverter.buildbin-libdir && mkdir miRNAmeConverter.buildbin-libdir && D:\biocbuild\bbs-3.15-bioc\R\bin\R.exe CMD INSTALL --build --library=miRNAmeConverter.buildbin-libdir miRNAmeConverter_1.23.0.tar.gz
StartedAt: 2022-01-20 21:04:45 -0500 (Thu, 20 Jan 2022)
EndedAt: 2022-01-20 21:05:54 -0500 (Thu, 20 Jan 2022)
EllapsedTime: 69.2 seconds
RetCode: 0
Status:   OK  
PackageFile: miRNAmeConverter_1.23.0.zip
PackageFileSize: 607.8 KiB

Command output

##############################################################################
##############################################################################
###
### Running command:
###
###   rm -rf miRNAmeConverter.buildbin-libdir && mkdir miRNAmeConverter.buildbin-libdir && D:\biocbuild\bbs-3.15-bioc\R\bin\R.exe CMD INSTALL --build --library=miRNAmeConverter.buildbin-libdir miRNAmeConverter_1.23.0.tar.gz
###
##############################################################################
##############################################################################


* installing *source* package 'miRNAmeConverter' ...
** using staged installation
It is recommended to use 'given' instead of 'middle'.
** R
** data
*** moving datasets to lazyload DB
** inst
** byte-compile and prepare package for lazy loading
Creating a generic function from function 'MiRNANameConverter' in package 'miRNAmeConverter'
** help
*** installing help indices
  converting help for package 'miRNAmeConverter'
    finding HTML links ... done
    MiRNANameConverter-ANY-method           html  
    MiRNANameConverter                      html  
    assessMiRNASwappingMIMAT                html  
    assessVersion                           html  
    checkMiRNAName                          html  
    currentVersion-set                      html  
    currentVersion                          html  
    example.miRNAs                          html  
    miRNAmeConverter                        html  
    nOrganisms-set                          html  
    nOrganisms                              html  
    nTotalEntries-set                       html  
    nTotalEntries                           html  
    saveResults                             html  
    show-MiRNANameConverter-method          html  
    translateMiRNAName                      html  
    validOrganisms-set                      html  
    validOrganisms                          html  
    validVersions-set                       html  
    validVersions                           html  
** building package indices
** testing if installed package can be loaded from temporary location
** testing if installed package can be loaded from final location
** testing if installed package keeps a record of temporary installation path
* MD5 sums
packaged installation of 'miRNAmeConverter' as miRNAmeConverter_1.23.0.zip
* DONE (miRNAmeConverter)