Name | Last modified | Size | Description | |
---|---|---|---|---|
Parent Directory | - | |||
buildsrc-out.txt | 29-Mar-2024 00:40 | 929 | ||
buildsrc-summary.dcf | 29-Mar-2024 00:40 | 452 | ||
checksrc-out.txt | 29-Mar-2024 00:40 | 4.4K | ||
checksrc-summary.dcf | 29-Mar-2024 00:40 | 489 | ||
install-out.txt | 29-Mar-2024 00:40 | 1.2K | ||
install-summary.dcf | 29-Mar-2024 00:40 | 286 | ||