Back to Multiple platform build/check report for BioC 3.19:   simplified   long
ABCDEFGHIJKL[M]NOPQRSTUVWXYZ

This page was generated on 2024-02-22 12:48:13 -0500 (Thu, 22 Feb 2024).

HostnameOSArch (*)R versionInstalled pkgs
nebbiolo1Linux (Ubuntu 22.04.3 LTS)x86_64R Under development (unstable) (2024-01-16 r85808) -- "Unsuffered Consequences" 4657
palomino3Windows Server 2022 Datacenterx64R Under development (unstable) (2024-01-14 r85805 ucrt) -- "Unsuffered Consequences" 4397
Click on any hostname to see more info about the system (e.g. compilers)      (*) as reported by 'uname -p', except on Windows and Mac OS X

Package 1258/2244HostnameOS / ArchINSTALLBUILDCHECKBUILD BIN
miRNAmeConverter 1.31.0  (landing page)
Stefan J. Haunsberger
Snapshot Date: 2024-02-21 14:10:10 -0500 (Wed, 21 Feb 2024)
git_url: https://git.bioconductor.org/packages/miRNAmeConverter
git_branch: devel
git_last_commit: 685e8e6
git_last_commit_date: 2023-10-24 10:48:19 -0500 (Tue, 24 Oct 2023)
nebbiolo1Linux (Ubuntu 22.04.3 LTS) / x86_64  OK    OK    WARNINGS  UNNEEDED, same version is already published
palomino3Windows Server 2022 Datacenter / x64  OK    OK    WARNINGS    OK  UNNEEDED, same version is already published

BUILD results for miRNAmeConverter on nebbiolo1


To the developers/maintainers of the miRNAmeConverter package:
- Allow up to 24 hours (and sometimes 48 hours) for your latest push to git@git.bioconductor.org:packages/miRNAmeConverter.git to reflect on this report. See Troubleshooting Build Report for more information.
- Use the following Renviron settings to reproduce errors and warnings.
- If 'R CMD check' started to fail recently on the Linux builder(s) over a missing dependency, add the missing dependency to 'Suggests:' in your DESCRIPTION file. See Renviron.bioc for more information.

raw results


Summary

Package: miRNAmeConverter
Version: 1.31.0
Command: /home/biocbuild/bbs-3.19-bioc/R/bin/R CMD build --keep-empty-dirs --no-resave-data miRNAmeConverter
StartedAt: 2024-02-21 17:57:44 -0500 (Wed, 21 Feb 2024)
EndedAt: 2024-02-21 17:57:45 -0500 (Wed, 21 Feb 2024)
EllapsedTime: 1.3 seconds
RetCode: 0
Status:   OK  
PackageFile: miRNAmeConverter_1.31.0.tar.gz
PackageFileSize: 313.7 KiB

Command output

##############################################################################
##############################################################################
###
### Running command:
###
###   /home/biocbuild/bbs-3.19-bioc/R/bin/R CMD build --keep-empty-dirs --no-resave-data miRNAmeConverter
###
##############################################################################
##############################################################################


* checking for file ‘miRNAmeConverter/DESCRIPTION’ ... OK
* preparing ‘miRNAmeConverter’:
* checking DESCRIPTION meta-information ... OK
Warning in person1(given = given[[i]], family = family[[i]], middle = middle[[i]],  :
  It is recommended to use ‘given’ instead of ‘middle’.
* checking for LF line-endings in source and make files and shell scripts
* checking for empty or unneeded directories
* building ‘miRNAmeConverter_1.31.0.tar.gz’