Name | Last modified | Size | Description | |
---|---|---|---|---|
Parent Directory | - | |||
buildbin-out.txt | 30-Apr-2024 00:38 | 1.9K | ||
buildbin-summary.dcf | 30-Apr-2024 00:38 | 491 | ||
buildsrc-out.txt | 30-Apr-2024 00:38 | 888 | ||
buildsrc-summary.dcf | 30-Apr-2024 00:38 | 436 | ||
checksrc-out.txt | 30-Apr-2024 00:38 | 3.9K | ||
checksrc-summary.dcf | 30-Apr-2024 00:38 | 431 | ||
install-out.txt | 30-Apr-2024 00:38 | 1.8K | ||
install-summary.dcf | 30-Apr-2024 00:38 | 260 | ||