Back to Multiple platform build/check report for BioC 3.15
ABCDEFGHIJKL[M]NOPQRSTUVWXYZ

This page was generated on 2022-01-24 11:07:47 -0500 (Mon, 24 Jan 2022).

HostnameOSArch (*)R versionInstalled pkgs
nebbiolo1Linux (Ubuntu 20.04.4 LTS)x86_64R Under development (unstable) (2022-01-05 r81451) -- "Unsuffered Consequences" 4163
riesling1Windows Server 2019 Standardx64R Under development (unstable) (2021-11-21 r81221) -- "Unsuffered Consequences" 4058
palomino3Windows Server 2022 Datacenterx64R Under development (unstable) (2021-12-21 r81400 ucrt) -- "Unsuffered Consequences" 4000
merida1macOS 10.14.6 Mojavex86_64R Under development (unstable) (2022-01-05 r81451) -- "Unsuffered Consequences" 4117
Click on any hostname to see more info about the system (e.g. compilers)      (*) as reported by 'uname -p', except on Windows and Mac OS X

INSTALL results for methylumi on riesling1


To the developers/maintainers of the methylumi package:
- Please allow up to 24 hours (and sometimes 48 hours) for your latest push to git@git.bioconductor.org:packages/methylumi.git to
reflect on this report. See How and When does the builder pull? When will my changes propagate? here for more information.
- Make sure to use the following settings in order to reproduce any error or warning you see on this page.

raw results

Package 1126/2075HostnameOS / ArchINSTALLBUILDCHECKBUILD BIN
methylumi 2.41.1  (landing page)
Sean Davis
Snapshot Date: 2022-01-23 13:55:15 -0500 (Sun, 23 Jan 2022)
git_url: https://git.bioconductor.org/packages/methylumi
git_branch: master
git_last_commit: 80d9b99
git_last_commit_date: 2021-10-27 03:30:10 -0500 (Wed, 27 Oct 2021)
nebbiolo1Linux (Ubuntu 20.04.4 LTS) / x86_64  OK    OK    OK  UNNEEDED, same version is already published
riesling1Windows Server 2019 Standard / x64  OK    OK    OK    OK  
palomino3Windows Server 2022 Datacenter / x64  OK    OK    OK    OK  NO, package depends on 'Biobase' which is not available
merida1macOS 10.14.6 Mojave / x86_64  OK    OK    OK    OK  UNNEEDED, same version is already published

Summary

Package: methylumi
Version: 2.41.1
Command: D:\biocbuild\bbs-3.15-bioc\R\bin\R.exe CMD INSTALL methylumi
StartedAt: 2022-01-23 16:07:59 -0500 (Sun, 23 Jan 2022)
EndedAt: 2022-01-23 16:09:02 -0500 (Sun, 23 Jan 2022)
EllapsedTime: 63.4 seconds
RetCode: 0
Status:   OK  

Command output

##############################################################################
##############################################################################
###
### Running command:
###
###   D:\biocbuild\bbs-3.15-bioc\R\bin\R.exe CMD INSTALL methylumi
###
##############################################################################
##############################################################################


* installing to library 'D:/biocbuild/bbs-3.15-bioc/R/library'
* installing *source* package 'methylumi' ...
** using staged installation
** R
** data
** inst
** byte-compile and prepare package for lazy loading
** help
*** installing help indices
  converting help for package 'methylumi'
    finding HTML links ... done
    CpGs                                    html  
    IDATsToMatrices                         html  
    IDATtoMatrix                            html  
    MethyLumi-class                         html  
    finding level-2 HTML links ... done

    MethyLumiM-class                        html  
    MethyLumiQC-class                       html  
    MethyLumiSet-class                      html  
    estimateM                               html  
    extractBarcodeAndPosition               html  
    featureFilter                           html  
    generics                                html  
    getAssayDataNameSubstitutions           html  
    methylData-class                        html  
    methylumIDAT                            html  
    methylumi-package                       html  
    methylumiGenerics                       html  
    methylumiR                              html  
    mldat                                   html  
    normalizeMethyLumiSet                   html  
    plotSampleIntensities                   html  
    qcplot                                  html  
    stripBeadExtras                         html  
    tcgaPipeline                            html  
    varFilter                               html  
** building package indices
** installing vignettes
** testing if installed package can be loaded from temporary location
** testing if installed package can be loaded from final location
** testing if installed package keeps a record of temporary installation path
* DONE (methylumi)
Making 'packages.html' ...Warning in packageDescription(i, lib.loc = lib, fields = "Title", encoding = "UTF-8") :
  DESCRIPTION file of package 'ROCpAI' is missing or broken
 done