Index of /checkResults/devel/bioc-LATEST/methylSig/raw-results/kunpeng2

[ICO]NameLast modifiedSizeDescription

[DIR]Parent Directory  -  
[TXT]buildsrc-out.txt18-Feb-2024 16:29 826  
[   ]buildsrc-summary.dcf18-Feb-2024 16:29 434  
[TXT]checksrc-out.txt18-Feb-2024 16:29 3.5K 
[   ]checksrc-summary.dcf18-Feb-2024 16:29 461  
[TXT]install-out.txt18-Feb-2024 16:29 1.0K 
[   ]install-summary.dcf18-Feb-2024 16:29 275