![]() | Name | Last modified | Size | Description |
---|---|---|---|---|
![]() | Parent Directory | - | ||
![]() | buildsrc-out.txt | 07-Dec-2023 01:39 | 823 | |
![]() | buildsrc-summary.dcf | 07-Dec-2023 01:39 | 431 | |
![]() | checksrc-out.txt | 07-Dec-2023 01:39 | 3.4K | |
![]() | checksrc-summary.dcf | 07-Dec-2023 01:39 | 455 | |
![]() | install-out.txt | 07-Dec-2023 01:39 | 1.0K | |
![]() | install-summary.dcf | 07-Dec-2023 01:39 | 272 | |