Back to Multiple platform build/check report for BioC 3.14
ABCDEFGHIJKL[M]NOPQRSTUVWXYZ

This page was generated on 2021-10-23 14:06:33 -0400 (Sat, 23 Oct 2021).

CHECK results for methylMnM on riesling1

To the developers/maintainers of the methylMnM package:
- Please allow up to 24 hours (and sometimes 48 hours) for your latest push to git@git.bioconductor.org:packages/methylMnM.git to
reflect on this report. See How and When does the builder pull? When will my changes propagate? here for more information.
- Make sure to use the following settings in order to reproduce any error or warning you see on this page.

raw results

Package 1124/2083HostnameOS / ArchINSTALLBUILDCHECKBUILD BIN
methylMnM 1.31.0  (landing page)
Yan Zhou
Snapshot Date: 2021-10-22 14:50:11 -0400 (Fri, 22 Oct 2021)
git_url: https://git.bioconductor.org/packages/methylMnM
git_branch: master
git_last_commit: a2a4f3a
git_last_commit_date: 2021-05-19 12:01:17 -0400 (Wed, 19 May 2021)
nebbiolo2Linux (Ubuntu 20.04.2 LTS) / x86_64  OK    OK    OK  UNNEEDED, same version is already published
riesling1Windows Server 2019 Standard / x64  OK    OK    OK    OK  UNNEEDED, same version is already published
merida1macOS 10.14.6 Mojave / x86_64  OK    OK    OK    OK  UNNEEDED, same version is already published

Summary

Package: methylMnM
Version: 1.31.0
Command: D:\biocbuild\bbs-3.14-bioc\R\bin\R.exe CMD check --force-multiarch --install=check:methylMnM.install-out.txt --library=D:\biocbuild\bbs-3.14-bioc\R\library --no-vignettes --timings methylMnM_1.31.0.tar.gz
StartedAt: 2021-10-23 07:06:56 -0400 (Sat, 23 Oct 2021)
EndedAt: 2021-10-23 07:09:18 -0400 (Sat, 23 Oct 2021)
EllapsedTime: 141.8 seconds
RetCode: 0
Status:   OK  
CheckDir: methylMnM.Rcheck
Warnings: 0

Command output

##############################################################################
##############################################################################
###
### Running command:
###
###   D:\biocbuild\bbs-3.14-bioc\R\bin\R.exe CMD check --force-multiarch --install=check:methylMnM.install-out.txt --library=D:\biocbuild\bbs-3.14-bioc\R\library --no-vignettes --timings methylMnM_1.31.0.tar.gz
###
##############################################################################
##############################################################################


* using log directory 'D:/biocbuild/bbs-3.14-bioc/meat/methylMnM.Rcheck'
* using R version 4.1.1 (2021-08-10)
* using platform: x86_64-w64-mingw32 (64-bit)
* using session charset: ISO8859-1
* using option '--no-vignettes'
* checking for file 'methylMnM/DESCRIPTION' ... OK
* checking extension type ... Package
* this is package 'methylMnM' version '1.31.0'
* checking package namespace information ... OK
* checking package dependencies ... OK
* checking if this is a source package ... OK
* checking if there is a namespace ... OK
* checking for hidden files and directories ... OK
* checking for portable file names ... OK
* checking whether package 'methylMnM' can be installed ... OK
* checking installed package size ... NOTE
  installed size is 47.7Mb
  sub-directories of 1Mb or more:
    extdata  47.4Mb
* checking package directory ... OK
* checking 'build' directory ... OK
* checking DESCRIPTION meta-information ... OK
* checking top-level files ... OK
* checking for left-over files ... OK
* checking index information ... OK
* checking package subdirectories ... OK
* checking R files for non-ASCII characters ... OK
* checking R files for syntax errors ... OK
* loading checks for arch 'i386'
** checking whether the package can be loaded ... OK
** checking whether the package can be loaded with stated dependencies ... OK
** checking whether the package can be unloaded cleanly ... OK
** checking whether the namespace can be loaded with stated dependencies ... OK
** checking whether the namespace can be unloaded cleanly ... OK
* loading checks for arch 'x64'
** checking whether the package can be loaded ... OK
** checking whether the package can be loaded with stated dependencies ... OK
** checking whether the package can be unloaded cleanly ... OK
** checking whether the namespace can be loaded with stated dependencies ... OK
** checking whether the namespace can be unloaded cleanly ... OK
* checking dependencies in R code ... NOTE
'library' or 'require' calls to packages already attached by Depends:
  'edgeR' 'statmod'
  Please remove these calls from your code.
Packages in Depends field not imported from:
  'edgeR' 'statmod'
  These packages need to be imported from (in the NAMESPACE file)
  for when this namespace is loaded but not attached.
* checking S3 generic/method consistency ... OK
* checking replacement functions ... OK
* checking foreign function calls ... OK
* checking R code for possible problems ... NOTE
CNVnormal: no visible global function definition for 'read.table'
MnM.qvalue: no visible global function definition for 'read.table'
MnM.qvalue: no visible global function definition for 'write.table'
MnM.selectDMR: no visible global function definition for 'quantile'
MnM.test: no visible global function definition for 'read.table'
MnM.test: no visible global function definition for 'calcNormFactors'
MnM.test: no visible global function definition for 'sage.test'
MnM.test: no visible global function definition for 'lm'
MnM.test: no visible global function definition for 'write.table'
countMREbin: no visible global function definition for 'read.table'
countMREbin: no visible global function definition for 'count.fields'
countMREbin: no visible global function definition for 'write.table'
countMREcpgbin: no visible global function definition for 'read.table'
countMREcpgbin: no visible global function definition for
  'count.fields'
countMREcpgbin: no visible global function definition for 'write.table'
countMeDIPbin: no visible global function definition for 'read.table'
countMeDIPbin: no visible global function definition for 'count.fields'
countMeDIPbin: no visible global function definition for 'write.table'
countcpgbin: no visible global function definition for 'read.table'
countcpgbin: no visible global function definition for 'count.fields'
countcpgbin: no visible global function definition for 'write.table'
normpdf: no visible global function definition for 'pnorm'
removeblacklist: no visible global function definition for 'read.table'
Undefined global functions or variables:
  calcNormFactors count.fields lm pnorm quantile read.table sage.test
  write.table
Consider adding
  importFrom("stats", "lm", "pnorm", "quantile")
  importFrom("utils", "count.fields", "read.table", "write.table")
to your NAMESPACE file.
* checking Rd files ... OK
* checking Rd metadata ... OK
* checking Rd cross-references ... OK
* checking for missing documentation entries ... OK
* checking for code/documentation mismatches ... OK
* checking Rd \usage sections ... OK
* checking Rd contents ... OK
* checking for unstated dependencies in examples ... OK
* checking line endings in C/C++/Fortran sources/headers ... OK
* checking compiled code ... NOTE
Note: information on .o files for i386 is not available
Note: information on .o files for x64 is not available
File 'D:/biocbuild/bbs-3.14-bioc/R/library/methylMnM/libs/i386/methylMnM.dll':
  Found 'abort', possibly from 'abort' (C), 'runtime' (Fortran)
  Found 'printf', possibly from 'printf' (C)
File 'D:/biocbuild/bbs-3.14-bioc/R/library/methylMnM/libs/x64/methylMnM.dll':
  Found 'abort', possibly from 'abort' (C), 'runtime' (Fortran)
  Found 'printf', possibly from 'printf' (C)

Compiled code should not call entry points which might terminate R nor
write to stdout/stderr instead of to the console, nor use Fortran I/O
nor system RNGs. The detected symbols are linked into the code but
might come from libraries and not actually be called.

See 'Writing portable packages' in the 'Writing R Extensions' manual.
* checking files in 'vignettes' ... OK
* checking examples ...
** running examples for arch 'i386' ... OK
** running examples for arch 'x64' ... OK
* checking for unstated dependencies in vignettes ... OK
* checking package vignettes in 'inst/doc' ... OK
* checking running R code from vignettes ... SKIPPED
* checking re-building of vignette outputs ... SKIPPED
* checking PDF version of manual ... OK
* DONE

Status: 4 NOTEs
See
  'D:/biocbuild/bbs-3.14-bioc/meat/methylMnM.Rcheck/00check.log'
for details.



Installation output

methylMnM.Rcheck/00install.out

##############################################################################
##############################################################################
###
### Running command:
###
###   C:\cygwin\bin\curl.exe -O http://155.52.207.166/BBS/3.14/bioc/src/contrib/methylMnM_1.31.0.tar.gz && rm -rf methylMnM.buildbin-libdir && mkdir methylMnM.buildbin-libdir && D:\biocbuild\bbs-3.14-bioc\R\bin\R.exe CMD INSTALL --merge-multiarch --build --library=methylMnM.buildbin-libdir methylMnM_1.31.0.tar.gz && D:\biocbuild\bbs-3.14-bioc\R\bin\R.exe CMD INSTALL methylMnM_1.31.0.zip && rm methylMnM_1.31.0.tar.gz methylMnM_1.31.0.zip
###
##############################################################################
##############################################################################


  % Total    % Received % Xferd  Average Speed   Time    Time     Time  Current
                                 Dload  Upload   Total   Spent    Left  Speed

  0     0    0     0    0     0      0      0 --:--:-- --:--:-- --:--:--     0
 51 8736k   51 4523k    0     0  8454k      0  0:00:01 --:--:--  0:00:01 8438k
100 8736k  100 8736k    0     0  11.0M      0 --:--:-- --:--:-- --:--:-- 11.0M

install for i386

* installing *source* package 'methylMnM' ...
** using staged installation
** libs
"C:/rtools40/mingw32/bin/"gcc  -I"D:/biocbuild/bbs-3.14-bioc/R/include" -DNDEBUG     -I"C:/extsoft/include"     -O2 -Wall  -std=gnu99 -mfpmath=sse -msse2 -mstackrealign  -c CpGcount.c -o CpGcount.o
"C:/rtools40/mingw32/bin/"gcc  -I"D:/biocbuild/bbs-3.14-bioc/R/include" -DNDEBUG     -I"C:/extsoft/include"     -O2 -Wall  -std=gnu99 -mfpmath=sse -msse2 -mstackrealign  -c calculatecount.c -o calculatecount.o
"C:/rtools40/mingw32/bin/"gcc  -I"D:/biocbuild/bbs-3.14-bioc/R/include" -DNDEBUG     -I"C:/extsoft/include"     -O2 -Wall  -std=gnu99 -mfpmath=sse -msse2 -mstackrealign  -c calculatecount1.c -o calculatecount1.o
"C:/rtools40/mingw32/bin/"gcc  -I"D:/biocbuild/bbs-3.14-bioc/R/include" -DNDEBUG     -I"C:/extsoft/include"     -O2 -Wall  -std=gnu99 -mfpmath=sse -msse2 -mstackrealign  -c calculatecountneg.c -o calculatecountneg.o
"C:/rtools40/mingw32/bin/"gcc  -I"D:/biocbuild/bbs-3.14-bioc/R/include" -DNDEBUG     -I"C:/extsoft/include"     -O2 -Wall  -std=gnu99 -mfpmath=sse -msse2 -mstackrealign  -c pmultinom.c -o pmultinom.o
"C:/rtools40/mingw32/bin/"gcc  -I"D:/biocbuild/bbs-3.14-bioc/R/include" -DNDEBUG     -I"C:/extsoft/include"     -O2 -Wall  -std=gnu99 -mfpmath=sse -msse2 -mstackrealign  -c pvalueclassify.c -o pvalueclassify.o
"C:/rtools40/mingw32/bin/"gcc  -I"D:/biocbuild/bbs-3.14-bioc/R/include" -DNDEBUG     -I"C:/extsoft/include"     -O2 -Wall  -std=gnu99 -mfpmath=sse -msse2 -mstackrealign  -c register.c -o register.o
C:/rtools40/mingw32/bin/gcc -shared -s -static-libgcc -o methylMnM.dll tmp.def CpGcount.o calculatecount.o calculatecount1.o calculatecountneg.o pmultinom.o pvalueclassify.o register.o -LC:/extsoft/lib/i386 -LC:/extsoft/lib -LD:/biocbuild/bbs-3.14-bioc/R/bin/i386 -lR
installing to D:/biocbuild/bbs-3.14-bioc/meat/methylMnM.buildbin-libdir/00LOCK-methylMnM/00new/methylMnM/libs/i386
** R
** inst
** byte-compile and prepare package for lazy loading
** help
*** installing help indices
  converting help for package 'methylMnM'
    finding HTML links ... done
    CNVnormal                               html  
    MnM-package                             html  
    MnM.qvalue                              html  
    MnM.selectDMR                           html  
    MnM.test                                html  
    calcFactornew                           html  
    calculatecount                          html  
    calculatecount1                         html  
    calculatecountneg                       html  
    countMREbin                             html  
    countMREcpgbin                          html  
    countMeDIPbin                           html  
    countcpgbin                             html  
    cpgcount                                html  
    normpdf                                 html  
    normpdf1                                html  
    pmultinom                               html  
    qvalue.rank                             html  
    removeblacklist                         html  
** building package indices
** installing vignettes
** testing if installed package can be loaded from temporary location
** testing if installed package can be loaded from final location
** testing if installed package keeps a record of temporary installation path

install for x64

* installing *source* package 'methylMnM' ...
** libs
"C:/rtools40/mingw64/bin/"gcc  -I"D:/biocbuild/bbs-3.14-bioc/R/include" -DNDEBUG     -I"C:/extsoft/include"     -O2 -Wall  -std=gnu99 -mfpmath=sse -msse2 -mstackrealign  -c CpGcount.c -o CpGcount.o
"C:/rtools40/mingw64/bin/"gcc  -I"D:/biocbuild/bbs-3.14-bioc/R/include" -DNDEBUG     -I"C:/extsoft/include"     -O2 -Wall  -std=gnu99 -mfpmath=sse -msse2 -mstackrealign  -c calculatecount.c -o calculatecount.o
"C:/rtools40/mingw64/bin/"gcc  -I"D:/biocbuild/bbs-3.14-bioc/R/include" -DNDEBUG     -I"C:/extsoft/include"     -O2 -Wall  -std=gnu99 -mfpmath=sse -msse2 -mstackrealign  -c calculatecount1.c -o calculatecount1.o
"C:/rtools40/mingw64/bin/"gcc  -I"D:/biocbuild/bbs-3.14-bioc/R/include" -DNDEBUG     -I"C:/extsoft/include"     -O2 -Wall  -std=gnu99 -mfpmath=sse -msse2 -mstackrealign  -c calculatecountneg.c -o calculatecountneg.o
"C:/rtools40/mingw64/bin/"gcc  -I"D:/biocbuild/bbs-3.14-bioc/R/include" -DNDEBUG     -I"C:/extsoft/include"     -O2 -Wall  -std=gnu99 -mfpmath=sse -msse2 -mstackrealign  -c pmultinom.c -o pmultinom.o
"C:/rtools40/mingw64/bin/"gcc  -I"D:/biocbuild/bbs-3.14-bioc/R/include" -DNDEBUG     -I"C:/extsoft/include"     -O2 -Wall  -std=gnu99 -mfpmath=sse -msse2 -mstackrealign  -c pvalueclassify.c -o pvalueclassify.o
"C:/rtools40/mingw64/bin/"gcc  -I"D:/biocbuild/bbs-3.14-bioc/R/include" -DNDEBUG     -I"C:/extsoft/include"     -O2 -Wall  -std=gnu99 -mfpmath=sse -msse2 -mstackrealign  -c register.c -o register.o
C:/rtools40/mingw64/bin/gcc -shared -s -static-libgcc -o methylMnM.dll tmp.def CpGcount.o calculatecount.o calculatecount1.o calculatecountneg.o pmultinom.o pvalueclassify.o register.o -LC:/extsoft/lib/x64 -LC:/extsoft/lib -LD:/biocbuild/bbs-3.14-bioc/R/bin/x64 -lR
installing to D:/biocbuild/bbs-3.14-bioc/meat/methylMnM.buildbin-libdir/methylMnM/libs/x64
** testing if installed package can be loaded
* MD5 sums
packaged installation of 'methylMnM' as methylMnM_1.31.0.zip
* DONE (methylMnM)
* installing to library 'D:/biocbuild/bbs-3.14-bioc/R/library'
package 'methylMnM' successfully unpacked and MD5 sums checked

Tests output


Example timings

methylMnM.Rcheck/examples_i386/methylMnM-Ex.timings

nameusersystemelapsed
CNVnormal0.000.000.02
MnM.qvalue0.000.000.02
MnM.selectDMR0.010.000.01
MnM.test0.020.000.02
calcFactornew000
calculatecount000
calculatecount1000
calculatecountneg000
countMREbin0.590.050.64
countMREcpgbin1.060.001.07
countMeDIPbin0.600.030.62
countcpgbin0.670.030.70
cpgcount000
normpdf000
normpdf1000
pmultinom0.280.000.28
qvalue.rank000
removeblacklist000

methylMnM.Rcheck/examples_x64/methylMnM-Ex.timings

nameusersystemelapsed
CNVnormal000
MnM.qvalue0.010.000.02
MnM.selectDMR000
MnM.test0.000.020.01
calcFactornew000
calculatecount000
calculatecount1000
calculatecountneg000
countMREbin0.670.030.70
countMREcpgbin0.890.040.94
countMeDIPbin0.860.070.92
countcpgbin0.610.010.62
cpgcount000
normpdf000
normpdf1000
pmultinom0.280.000.28
qvalue.rank000
removeblacklist000