Back to Multiple platform build/check report for BioC 3.14
ABCDEFGHIJKL[M]NOPQRSTUVWXYZ

This page was generated on 2021-10-23 14:06:33 -0400 (Sat, 23 Oct 2021).

BUILD results for methylMnM on riesling1

To the developers/maintainers of the methylMnM package:
- Please allow up to 24 hours (and sometimes 48 hours) for your latest push to git@git.bioconductor.org:packages/methylMnM.git to
reflect on this report. See How and When does the builder pull? When will my changes propagate? here for more information.
- Make sure to use the following settings in order to reproduce any error or warning you see on this page.

raw results

Package 1124/2083HostnameOS / ArchINSTALLBUILDCHECKBUILD BIN
methylMnM 1.31.0  (landing page)
Yan Zhou
Snapshot Date: 2021-10-22 14:50:11 -0400 (Fri, 22 Oct 2021)
git_url: https://git.bioconductor.org/packages/methylMnM
git_branch: master
git_last_commit: a2a4f3a
git_last_commit_date: 2021-05-19 12:01:17 -0400 (Wed, 19 May 2021)
nebbiolo2Linux (Ubuntu 20.04.2 LTS) / x86_64  OK    OK    OK  UNNEEDED, same version is already published
riesling1Windows Server 2019 Standard / x64  OK    OK    OK    OK  UNNEEDED, same version is already published
merida1macOS 10.14.6 Mojave / x86_64  OK    OK    OK    OK  UNNEEDED, same version is already published

Summary

Package: methylMnM
Version: 1.31.0
Command: chmod a+r methylMnM -R && D:\biocbuild\bbs-3.14-bioc\R\bin\R.exe CMD build --keep-empty-dirs --no-resave-data methylMnM
StartedAt: 2021-10-22 21:48:03 -0400 (Fri, 22 Oct 2021)
EndedAt: 2021-10-22 21:52:52 -0400 (Fri, 22 Oct 2021)
EllapsedTime: 289.0 seconds
RetCode: 0
Status:   OK  
PackageFile: methylMnM_1.31.0.tar.gz
PackageFileSize: 8.424 MiB

Command output

##############################################################################
##############################################################################
###
### Running command:
###
###   chmod a+r methylMnM -R && D:\biocbuild\bbs-3.14-bioc\R\bin\R.exe CMD build --keep-empty-dirs --no-resave-data methylMnM
###
##############################################################################
##############################################################################


* checking for file 'methylMnM/DESCRIPTION' ... OK
* preparing 'methylMnM':
* checking DESCRIPTION meta-information ... OK
* cleaning src
* installing the package to build vignettes
* creating vignettes ... OK
* cleaning src
* checking for LF line-endings in source and make files and shell scripts
* checking for empty or unneeded directories
* building 'methylMnM_1.31.0.tar.gz'