Name | Last modified | Size | Description | |
---|---|---|---|---|
Parent Directory | - | |||
install-summary.dcf | 27-Jul-2024 00:40 | 274 | ||
install-out.txt | 27-Jul-2024 00:40 | 5.6K | ||
checksrc-summary.dcf | 27-Jul-2024 00:40 | 465 | ||
checksrc-out.txt | 27-Jul-2024 00:40 | 5.8K | ||
buildsrc-summary.dcf | 27-Jul-2024 00:40 | 465 | ||
buildsrc-out.txt | 27-Jul-2024 00:40 | 1.3K | ||
buildbin-summary.dcf | 27-Jul-2024 00:40 | 533 | ||
buildbin-out.txt | 27-Jul-2024 00:40 | 5.8K | ||