Name | Last modified | Size | Description | |
---|---|---|---|---|
Parent Directory | - | |||
buildbin-out.txt | 17-Jul-2024 00:40 | 5.9K | ||
checksrc-out.txt | 17-Jul-2024 00:40 | 5.8K | ||
install-out.txt | 17-Jul-2024 00:40 | 5.7K | ||
buildsrc-out.txt | 17-Jul-2024 00:40 | 1.3K | ||
buildbin-summary.dcf | 17-Jul-2024 00:40 | 538 | ||
checksrc-summary.dcf | 17-Jul-2024 00:40 | 477 | ||
buildsrc-summary.dcf | 17-Jul-2024 00:40 | 471 | ||
install-summary.dcf | 17-Jul-2024 00:40 | 280 | ||