Name | Last modified | Size | Description | |
---|---|---|---|---|
Parent Directory | - | |||
checksrc-out.txt | 23-May-2024 00:37 | 5.8K | ||
buildbin-out.txt | 23-May-2024 00:37 | 5.8K | ||
install-out.txt | 12-Jun-2024 04:40 | 5.6K | ||
buildsrc-out.txt | 12-Jun-2024 04:40 | 4.5K | ||
buildbin-summary.dcf | 23-May-2024 00:37 | 532 | ||
checksrc-summary.dcf | 23-May-2024 00:37 | 465 | ||
buildsrc-summary.dcf | 12-Jun-2024 04:40 | 378 | ||
install-summary.dcf | 12-Jun-2024 04:40 | 274 | ||