Name | Last modified | Size | Description | |
---|---|---|---|---|
Parent Directory | - | |||
buildbin-out.txt | 05-Jun-2024 03:35 | 11K | ||
buildbin-summary.dcf | 05-Jun-2024 03:35 | 548 | ||
buildsrc-out.txt | 12-Jun-2024 04:42 | 1.5K | ||
buildsrc-summary.dcf | 12-Jun-2024 04:42 | 350 | ||
checksrc-out.txt | 05-Jun-2024 03:35 | 5.6K | ||
checksrc-summary.dcf | 05-Jun-2024 03:35 | 462 | ||
install-out.txt | 12-Jun-2024 04:42 | 9.0K | ||
install-summary.dcf | 12-Jun-2024 04:42 | 276 | ||