Name | Last modified | Size | Description | |
---|---|---|---|---|
Parent Directory | - | |||
install-summary.dcf | 27-Jul-2024 00:42 | 275 | ||
install-out.txt | 27-Jul-2024 00:42 | 12K | ||
checksrc-summary.dcf | 27-Jul-2024 00:42 | 461 | ||
checksrc-out.txt | 27-Jul-2024 00:42 | 5.7K | ||
buildsrc-summary.dcf | 27-Jul-2024 00:42 | 436 | ||
buildsrc-out.txt | 27-Jul-2024 00:42 | 1.3K | ||
buildbin-summary.dcf | 27-Jul-2024 00:42 | 548 | ||
buildbin-out.txt | 27-Jul-2024 00:42 | 14K | ||