Index of /checkResults/devel/bioc-LATEST/methimpute/raw-results/kjohnson1
Name
Last modified
Size
Description
Parent Directory
-
buildsrc-summary.dcf
12-Jun-2024 04:43
350
buildsrc-out.txt
12-Jun-2024 04:43
1.5K
install-summary.dcf
12-Jun-2024 04:43
275
install-out.txt
12-Jun-2024 04:43
12K