Back to Multiple platform build/check report for BioC 3.15
ABCDEFGHIJKL[M]NOPQRSTUVWXYZ

This page was generated on 2022-01-21 11:07:58 -0500 (Fri, 21 Jan 2022).

HostnameOSArch (*)R versionInstalled pkgs
nebbiolo1Linux (Ubuntu 20.04.4 LTS)x86_64R Under development (unstable) (2022-01-05 r81451) -- "Unsuffered Consequences" 4163
riesling1Windows Server 2019 Standardx64R Under development (unstable) (2021-11-21 r81221) -- "Unsuffered Consequences" 4058
palomino3Windows Server 2022 Datacenterx64R Under development (unstable) (2021-12-21 r81400 ucrt) -- "Unsuffered Consequences" 4000
merida1macOS 10.14.6 Mojavex86_64R Under development (unstable) (2022-01-05 r81451) -- "Unsuffered Consequences" 4117
Click on any hostname to see more info about the system (e.g. compilers)      (*) as reported by 'uname -p', except on Windows and Mac OS X

BUILD BIN results for methInheritSim on riesling1


To the developers/maintainers of the methInheritSim package:
- Please allow up to 24 hours (and sometimes 48 hours) for your latest push to git@git.bioconductor.org:packages/methInheritSim.git to
reflect on this report. See How and When does the builder pull? When will my changes propagate? here for more information.
- Make sure to use the following settings in order to reproduce any error or warning you see on this page.

raw results

Package 1109/2075HostnameOS / ArchINSTALLBUILDCHECKBUILD BIN
methInheritSim 1.17.1  (landing page)
Pascal Belleau
Snapshot Date: 2022-01-20 13:55:17 -0500 (Thu, 20 Jan 2022)
git_url: https://git.bioconductor.org/packages/methInheritSim
git_branch: master
git_last_commit: ea580fb
git_last_commit_date: 2021-11-21 00:32:40 -0500 (Sun, 21 Nov 2021)
nebbiolo1Linux (Ubuntu 20.04.4 LTS) / x86_64  OK    OK    OK  UNNEEDED, same version is already published
riesling1Windows Server 2019 Standard / x64  OK    OK    OK    OK  
palomino3Windows Server 2022 Datacenter / x64  OK    OK    OK    OK  NO, package depends on 'methylKit' which is not available
merida1macOS 10.14.6 Mojave / x86_64  OK    OK    OK    OK  UNNEEDED, same version is already published

Summary

Package: methInheritSim
Version: 1.17.1
Command: rm -rf methInheritSim.buildbin-libdir && mkdir methInheritSim.buildbin-libdir && D:\biocbuild\bbs-3.15-bioc\R\bin\R.exe CMD INSTALL --build --library=methInheritSim.buildbin-libdir methInheritSim_1.17.1.tar.gz
StartedAt: 2022-01-20 21:03:26 -0500 (Thu, 20 Jan 2022)
EndedAt: 2022-01-20 21:04:39 -0500 (Thu, 20 Jan 2022)
EllapsedTime: 73.1 seconds
RetCode: 0
Status:   OK  
PackageFile: methInheritSim_1.17.1.zip
PackageFileSize: 765.7 KiB

Command output

##############################################################################
##############################################################################
###
### Running command:
###
###   rm -rf methInheritSim.buildbin-libdir && mkdir methInheritSim.buildbin-libdir && D:\biocbuild\bbs-3.15-bioc\R\bin\R.exe CMD INSTALL --build --library=methInheritSim.buildbin-libdir methInheritSim_1.17.1.tar.gz
###
##############################################################################
##############################################################################


* installing *source* package 'methInheritSim' ...
** using staged installation
** R
** data
** inst
** byte-compile and prepare package for lazy loading
** help
*** installing help indices
  converting help for package 'methInheritSim'
    finding HTML links ... done
    calculateNbDiffCase                     html  
    createSampleID                          html  
    dataSimExample                          html  
    estBetaAlpha                            html  
    estBetaBeta                             html  
    fixSeed                                 html  
    getDiffCase                             html  
    getDiffMeth                             html  
    getSim                                  html  
    getSyntheticChr                         html  
    methInheritSim-package                  html  
    runOnEachSynCHR                         html  
    runSim                                  html  
    samplesForChrSynthetic                  html  
    saveData                                html  
    simEachGeneration                       html  
    simInheritance                          html  
    testIfAlreadyDone                       html  
    validateRunSimDoubleParameters          html  
    validateRunSimIntegerParameters         html  
    validateRunSimLogicalParameters         html  
    validateRunSimOtherParameters           html  
    validateRunSimParameters                html  
** building package indices
** installing vignettes
** testing if installed package can be loaded from temporary location
** testing if installed package can be loaded from final location
** testing if installed package keeps a record of temporary installation path
* MD5 sums
packaged installation of 'methInheritSim' as methInheritSim_1.17.1.zip
* DONE (methInheritSim)