Back to Multiple platform build/check report for BioC 3.15
ABCDEFGHIJKL[M]NOPQRSTUVWXYZ

This page was generated on 2022-01-26 11:08:05 -0500 (Wed, 26 Jan 2022).

HostnameOSArch (*)R versionInstalled pkgs
nebbiolo1Linux (Ubuntu 20.04.4 LTS)x86_64R Under development (unstable) (2022-01-05 r81451) -- "Unsuffered Consequences" 4164
riesling1Windows Server 2019 Standardx64R Under development (unstable) (2021-11-21 r81221) -- "Unsuffered Consequences" 4059
palomino3Windows Server 2022 Datacenterx64R Under development (unstable) (2021-12-21 r81400 ucrt) -- "Unsuffered Consequences" 4001
merida1macOS 10.14.6 Mojavex86_64R Under development (unstable) (2022-01-05 r81451) -- "Unsuffered Consequences" 4118
Click on any hostname to see more info about the system (e.g. compilers)      (*) as reported by 'uname -p', except on Windows and Mac OS X

INSTALL results for metaseqR2 on riesling1


To the developers/maintainers of the metaseqR2 package:
- Please allow up to 24 hours (and sometimes 48 hours) for your latest push to git@git.bioconductor.org:packages/metaseqR2.git to
reflect on this report. See How and When does the builder pull? When will my changes propagate? here for more information.
- Make sure to use the following settings in order to reproduce any error or warning you see on this page.

raw results

Package 1103/2075HostnameOS / ArchINSTALLBUILDCHECKBUILD BIN
metaseqR2 1.7.11  (landing page)
Panagiotis Moulos
Snapshot Date: 2022-01-25 13:55:17 -0500 (Tue, 25 Jan 2022)
git_url: https://git.bioconductor.org/packages/metaseqR2
git_branch: master
git_last_commit: e49a25c
git_last_commit_date: 2021-11-26 06:45:40 -0500 (Fri, 26 Nov 2021)
nebbiolo1Linux (Ubuntu 20.04.4 LTS) / x86_64  OK    OK    WARNINGS  UNNEEDED, same version is already published
riesling1Windows Server 2019 Standard / x64  OK    OK    WARNINGS    OK  
palomino3Windows Server 2022 Datacenter / x64  OK    OK    WARNINGS    OK  NO, package depends on 'DESeq2' which is not available
merida1macOS 10.14.6 Mojave / x86_64  OK    OK    WARNINGS    OK  UNNEEDED, same version is already published

Summary

Package: metaseqR2
Version: 1.7.11
Command: D:\biocbuild\bbs-3.15-bioc\R\bin\R.exe CMD INSTALL metaseqR2
StartedAt: 2022-01-25 16:13:57 -0500 (Tue, 25 Jan 2022)
EndedAt: 2022-01-25 16:15:19 -0500 (Tue, 25 Jan 2022)
EllapsedTime: 82.0 seconds
RetCode: 0
Status:   OK  

Command output

##############################################################################
##############################################################################
###
### Running command:
###
###   D:\biocbuild\bbs-3.15-bioc\R\bin\R.exe CMD INSTALL metaseqR2
###
##############################################################################
##############################################################################


* installing to library 'D:/biocbuild/bbs-3.15-bioc/R/library'
* installing *source* package 'metaseqR2' ...
** using staged installation
** libs
"C:/rtools40/mingw64/bin/"gcc  -I"D:/biocbuild/bbs-3.15-bioc/R/include" -DNDEBUG     -I"C:/extsoft/include"     -O2 -Wall  -std=gnu99 -mfpmath=sse -msse2 -mstackrealign -fno-reorder-blocks-and-partition  -c pval.c -o pval.o
pval.c: In function 'add_from_both_sides':
pval.c:26:11: warning: unused variable 'esttotalperlength' [-Wunused-variable]
    double esttotalperlength = total/2;
           ^~~~~~~~~~~~~~~~~
C:/rtools40/mingw64/bin/gcc -shared -s -static-libgcc -o metaseqR2.dll tmp.def pval.o -LC:/extsoft/lib/x64 -LC:/extsoft/lib -LD:/biocbuild/bbs-3.15-bioc/R/bin/x64 -lR
installing to D:/biocbuild/bbs-3.15-bioc/R/library/00LOCK-metaseqR2/00new/metaseqR2/libs/x64
** R
** data
** inst
** byte-compile and prepare package for lazy loading
Warning: replacing previous import 'GenomicRanges::subtract' by 'magrittr::subtract' when loading 'metaseqR2'
** help
*** installing help indices
  converting help for package 'metaseqR2'
    finding HTML links ... done
    buildAnnotationDatabase                 html  
    buildCustomAnnotation                   html  
    combineBonferroni                       html  
    combineHarmonic                         html  
    combineMaxp                             html  
    combineMinp                             html  
    combineSimes                            html  
    combineWeight                           html  
    createSignalTracks                      html  
    diagplotAvgFtd                          html  
    diagplotBoxplot                         html  
    diagplotCor                             html  
    diagplotDeHeatmap                       html  
    diagplotEdaseq                          html  
    diagplotFiltered                        html  
    diagplotFtd                             html  
    diagplotMds                             html  
    diagplotNoiseq                          html  
    diagplotPairs                           html  
    diagplotRoc                             html  
    diagplotVenn                            html  
    diagplotVolcano                         html  
    downsampleCounts                        html  
    estimateAufcWeights                     html  
    estimateSimParams                       html  
    getAnnotation                           html  
    getDefaults                             html  
    getInstalledAnnotations                 html  
    getWeights                              html  
    hg19pvalues                             html  
    importCustomAnnotation                  html  
    libsizeListMm9                          html  
    loadAnnotation                          html  
    makeSimDataSd                           html  
    makeSimDataTcc                          html  
    metaTest                                html  
    metaseqr2                               html  
    finding level-2 HTML links ... done

    metaseqrPlot                            html  
    mm9GeneCounts                           html  
    normalizeAbsseq                         html  
    normalizeDeseq                          html  
    normalizeDeseq2                         html  
    normalizeDss                            html  
    normalizeEdaseq                         html  
    normalizeEdger                          html  
    normalizeNbpseq                         html  
    normalizeNoiseq                         html  
    read2count                              html  
    readTargets                             html  
    sampleListMm9                           html  
    statAbsseq                              html  
    statBayseq                              html  
    statDeseq                               html  
    statDeseq2                              html  
    statDss                                 html  
    statEdger                               html  
    statLimma                               html  
    statNbpseq                              html  
    statNoiseq                              html  
** building package indices
** installing vignettes
** testing if installed package can be loaded from temporary location
Warning: replacing previous import 'GenomicRanges::subtract' by 'magrittr::subtract' when loading 'metaseqR2'
** testing if installed package can be loaded from final location
Warning: replacing previous import 'GenomicRanges::subtract' by 'magrittr::subtract' when loading 'metaseqR2'
** testing if installed package keeps a record of temporary installation path
* DONE (metaseqR2)
Making 'packages.html' ... done