Back to Multiple platform build/check report for BioC 3.15
ABCDEFGHIJKL[M]NOPQRSTUVWXYZ

This page was generated on 2021-11-27 14:05:10 -0500 (Sat, 27 Nov 2021).

BUILD results for metaseqR2 on riesling1

To the developers/maintainers of the metaseqR2 package:
- Please allow up to 24 hours (and sometimes 48 hours) for your latest push to git@git.bioconductor.org:packages/metaseqR2.git to
reflect on this report. See How and When does the builder pull? When will my changes propagate? here for more information.
- Make sure to use the following settings in order to reproduce any error or warning you see on this page.

raw results

Package 1098/2068HostnameOS / ArchINSTALLBUILDCHECKBUILD BIN
metaseqR2 1.7.11  (landing page)
Panagiotis Moulos
Snapshot Date: 2021-11-26 14:50:14 -0500 (Fri, 26 Nov 2021)
git_url: https://git.bioconductor.org/packages/metaseqR2
git_branch: master
git_last_commit: e49a25c
git_last_commit_date: 2021-11-26 06:45:40 -0500 (Fri, 26 Nov 2021)
nebbiolo1Linux (Ubuntu 20.04.3 LTS) / x86_64  OK    OK    OK  YES
riesling1Windows Server 2019 Standard / x64  OK    OK    OK    OK  
merida1macOS 10.14.6 Mojave / x86_64  OK    OK    OK    OK  YES

Summary

Package: metaseqR2
Version: 1.7.11
Command: chmod a+r metaseqR2 -R && D:\biocbuild\bbs-3.15-bioc\R\bin\R.exe CMD build --keep-empty-dirs --no-resave-data metaseqR2
StartedAt: 2021-11-26 22:10:48 -0500 (Fri, 26 Nov 2021)
EndedAt: 2021-11-26 22:20:45 -0500 (Fri, 26 Nov 2021)
EllapsedTime: 596.5 seconds
RetCode: 0
Status:   OK  
PackageFile: metaseqR2_1.7.11.tar.gz
PackageFileSize: 2.623 MiB

Command output

##############################################################################
##############################################################################
###
### Running command:
###
###   chmod a+r metaseqR2 -R && D:\biocbuild\bbs-3.15-bioc\R\bin\R.exe CMD build --keep-empty-dirs --no-resave-data metaseqR2
###
##############################################################################
##############################################################################


* checking for file 'metaseqR2/DESCRIPTION' ... OK
* preparing 'metaseqR2':
* checking DESCRIPTION meta-information ... OK
* cleaning src
* installing the package to build vignettes
* creating vignettes ... OK
* cleaning src
* checking for LF line-endings in source and make files and shell scripts
* checking for empty or unneeded directories
* looking to see if a 'data/datalist' file should be added
* building 'metaseqR2_1.7.11.tar.gz'