Name | Last modified | Size | Description | |
---|---|---|---|---|
Parent Directory | - | |||
checksrc-out.txt | 18-Jul-2024 00:38 | 3.9K | ||
checksrc-summary.dcf | 18-Jul-2024 00:38 | 422 | ||
buildsrc-out.txt | 18-Jul-2024 00:38 | 931 | ||
buildsrc-summary.dcf | 18-Jul-2024 00:38 | 430 | ||
install-out.txt | 18-Jul-2024 00:38 | 1.6K | ||
install-summary.dcf | 18-Jul-2024 00:38 | 263 | ||