![]() | Name | Last modified | Size | Description |
---|---|---|---|---|
![]() | Parent Directory | - | ||
![]() | buildsrc-out.txt | 24-Sep-2023 00:36 | 907 | |
![]() | buildsrc-summary.dcf | 24-Sep-2023 00:36 | 424 | |
![]() | checksrc-out.txt | 24-Sep-2023 00:36 | 4.1K | |
![]() | checksrc-summary.dcf | 24-Sep-2023 00:36 | 422 | |
![]() | install-out.txt | 24-Sep-2023 00:36 | 1.6K | |
![]() | install-summary.dcf | 24-Sep-2023 00:36 | 263 | |