Name | Last modified | Size | Description | |
---|---|---|---|---|
Parent Directory | - | |||
buildbin-out.txt | 18-Jan-2024 02:23 | 3.8K | ||
buildbin-summary.dcf | 18-Jan-2024 02:23 | 543 | ||
buildsrc-out.txt | 05-Mar-2024 01:39 | 21K | ||
buildsrc-summary.dcf | 05-Mar-2024 01:39 | 348 | ||
checksrc-out.txt | 18-Jan-2024 02:23 | 4.2K | ||
checksrc-summary.dcf | 18-Jan-2024 02:23 | 453 | ||
install-out.txt | 05-Mar-2024 01:39 | 1.8K | ||
install-summary.dcf | 05-Mar-2024 01:39 | 274 | ||