![]() | Name | Last modified | Size | Description |
---|---|---|---|---|
![]() | Parent Directory | - | ||
![]() | buildbin-out.txt | 24-Sep-2023 00:39 | 3.8K | |
![]() | buildbin-summary.dcf | 24-Sep-2023 00:39 | 543 | |
![]() | buildsrc-out.txt | 24-Sep-2023 00:39 | 917 | |
![]() | buildsrc-summary.dcf | 24-Sep-2023 00:39 | 434 | |
![]() | checksrc-out.txt | 24-Sep-2023 00:39 | 4.0K | |
![]() | checksrc-summary.dcf | 24-Sep-2023 00:39 | 452 | |
![]() | install-out.txt | 24-Sep-2023 00:39 | 1.9K | |
![]() | install-summary.dcf | 24-Sep-2023 00:39 | 273 | |