![]() | Name | Last modified | Size | Description |
---|---|---|---|---|
![]() | Parent Directory | - | ||
![]() | buildsrc-out.txt | 29-Sep-2023 00:40 | 901 | |
![]() | buildsrc-summary.dcf | 29-Sep-2023 00:40 | 418 | |
![]() | checksrc-out.txt | 29-Sep-2023 00:40 | 4.1K | |
![]() | checksrc-summary.dcf | 29-Sep-2023 00:40 | 411 | |
![]() | install-out.txt | 29-Sep-2023 00:40 | 1.6K | |
![]() | install-summary.dcf | 29-Sep-2023 00:40 | 258 | |