Back to Multiple platform build/check report for BioC 3.16 |
|
This page was generated on 2022-06-24 11:06:45 -0400 (Fri, 24 Jun 2022).
Hostname | OS | Arch (*) | R version | Installed pkgs |
---|---|---|---|---|
nebbiolo2 | Linux (Ubuntu 20.04.4 LTS) | x86_64 | 4.2.0 Patched (2022-06-02 r82447) -- "Vigorous Calisthenics" | 4331 |
palomino4 | Windows Server 2022 Datacenter | x64 | 4.2.0 Patched (2022-06-02 r82447 ucrt) -- "Vigorous Calisthenics" | 4136 |
lconway | macOS 12.2.1 Monterey | x86_64 | 4.2.0 Patched (2022-05-29 r82424) -- "Vigorous Calisthenics" | 4147 |
Click on any hostname to see more info about the system (e.g. compilers) (*) as reported by 'uname -p', except on Windows and Mac OS X |
To the developers/maintainers of the metapone package: - Please allow up to 24 hours (and sometimes 48 hours) for your latest push to git@git.bioconductor.org:packages/metapone.git to reflect on this report. See How and When does the builder pull? When will my changes propagate? for more information. - Make sure to use the following settings in order to reproduce any error or warning you see on this page. |
Package 1122/2118 | Hostname | OS / Arch | INSTALL | BUILD | CHECK | BUILD BIN | ||||||||
metapone 1.3.2 (landing page) Tianwei Yu
| nebbiolo2 | Linux (Ubuntu 20.04.4 LTS) / x86_64 | OK | OK | OK | ![]() | ||||||||
palomino4 | Windows Server 2022 Datacenter / x64 | OK | OK | OK | OK | ![]() | ||||||||
lconway | macOS 12.2.1 Monterey / x86_64 | OK | OK | OK | OK | ![]() | ||||||||
Package: metapone |
Version: 1.3.2 |
Command: C:\cygwin\bin\curl.exe -O http://155.52.207.166/BBS/3.16/bioc/src/contrib/metapone_1.3.2.tar.gz && rm -rf metapone.buildbin-libdir && mkdir metapone.buildbin-libdir && F:\biocbuild\bbs-3.16-bioc\R\bin\R.exe CMD INSTALL --merge-multiarch --build --library=metapone.buildbin-libdir metapone_1.3.2.tar.gz && F:\biocbuild\bbs-3.16-bioc\R\bin\R.exe CMD INSTALL metapone_1.3.2.zip && rm metapone_1.3.2.tar.gz metapone_1.3.2.zip |
StartedAt: 2022-06-23 16:00:57 -0400 (Thu, 23 Jun 2022) |
EndedAt: 2022-06-23 16:01:29 -0400 (Thu, 23 Jun 2022) |
EllapsedTime: 31.0 seconds |
RetCode: 0 |
Status: OK |
############################################################################## ############################################################################## ### ### Running command: ### ### C:\cygwin\bin\curl.exe -O http://155.52.207.166/BBS/3.16/bioc/src/contrib/metapone_1.3.2.tar.gz && rm -rf metapone.buildbin-libdir && mkdir metapone.buildbin-libdir && F:\biocbuild\bbs-3.16-bioc\R\bin\R.exe CMD INSTALL --merge-multiarch --build --library=metapone.buildbin-libdir metapone_1.3.2.tar.gz && F:\biocbuild\bbs-3.16-bioc\R\bin\R.exe CMD INSTALL metapone_1.3.2.zip && rm metapone_1.3.2.tar.gz metapone_1.3.2.zip ### ############################################################################## ############################################################################## % Total % Received % Xferd Average Speed Time Time Time Current Dload Upload Total Spent Left Speed 0 0 0 0 0 0 0 0 --:--:-- --:--:-- --:--:-- 0 56 3761k 56 2143k 0 0 9.9M 0 --:--:-- --:--:-- --:--:-- 9.9M 100 3761k 100 3761k 0 0 11.3M 0 --:--:-- --:--:-- --:--:-- 11.4M only one architecture so ignoring '--merge-multiarch' * installing *source* package 'metapone' ... ** using staged installation ** R ** data ** byte-compile and prepare package for lazy loading Creating a new generic function for 'ftable' in package 'metapone' ** help *** installing help indices ** building package indices ** installing vignettes ** testing if installed package can be loaded from temporary location ** testing if installed package can be loaded from final location ** testing if installed package keeps a record of temporary installation path * MD5 sums packaged installation of 'metapone' as metapone_1.3.2.zip * DONE (metapone) * installing to library 'F:/biocbuild/bbs-3.16-bioc/R/library' package 'metapone' successfully unpacked and MD5 sums checked