Back to Multiple platform build/check report for BioC 3.16
ABCDEFGHIJKL[M]NOPQRSTUVWXYZ

This page was generated on 2022-06-24 11:06:45 -0400 (Fri, 24 Jun 2022).

HostnameOSArch (*)R versionInstalled pkgs
nebbiolo2Linux (Ubuntu 20.04.4 LTS)x86_644.2.0 Patched (2022-06-02 r82447) -- "Vigorous Calisthenics" 4331
palomino4Windows Server 2022 Datacenterx644.2.0 Patched (2022-06-02 r82447 ucrt) -- "Vigorous Calisthenics" 4136
lconwaymacOS 12.2.1 Montereyx86_644.2.0 Patched (2022-05-29 r82424) -- "Vigorous Calisthenics" 4147
Click on any hostname to see more info about the system (e.g. compilers)      (*) as reported by 'uname -p', except on Windows and Mac OS X

CHECK results for metapone on palomino4


To the developers/maintainers of the metapone package:
- Please allow up to 24 hours (and sometimes 48 hours) for your latest push to git@git.bioconductor.org:packages/metapone.git to
reflect on this report. See How and When does the builder pull? When will my changes propagate? for more information.
- Make sure to use the following settings in order to reproduce any error or warning you see on this page.

raw results

Package 1122/2118HostnameOS / ArchINSTALLBUILDCHECKBUILD BIN
metapone 1.3.2  (landing page)
Tianwei Yu
Snapshot Date: 2022-06-23 14:00:04 -0400 (Thu, 23 Jun 2022)
git_url: https://git.bioconductor.org/packages/metapone
git_branch: master
git_last_commit: 3d98c60
git_last_commit_date: 2022-06-03 21:25:15 -0400 (Fri, 03 Jun 2022)
nebbiolo2Linux (Ubuntu 20.04.4 LTS) / x86_64  OK    OK    OK  UNNEEDED, same version is already published
palomino4Windows Server 2022 Datacenter / x64  OK    OK    OK    OK  UNNEEDED, same version is already published
lconwaymacOS 12.2.1 Monterey / x86_64  OK    OK    OK    OK  UNNEEDED, same version is already published

Summary

Package: metapone
Version: 1.3.2
Command: F:\biocbuild\bbs-3.16-bioc\R\bin\R.exe CMD check --force-multiarch --install=check:metapone.install-out.txt --library=F:\biocbuild\bbs-3.16-bioc\R\library --no-vignettes --timings metapone_1.3.2.tar.gz
StartedAt: 2022-06-24 03:12:38 -0400 (Fri, 24 Jun 2022)
EndedAt: 2022-06-24 03:19:41 -0400 (Fri, 24 Jun 2022)
EllapsedTime: 422.8 seconds
RetCode: 0
Status:   OK  
CheckDir: metapone.Rcheck
Warnings: 0

Command output

##############################################################################
##############################################################################
###
### Running command:
###
###   F:\biocbuild\bbs-3.16-bioc\R\bin\R.exe CMD check --force-multiarch --install=check:metapone.install-out.txt --library=F:\biocbuild\bbs-3.16-bioc\R\library --no-vignettes --timings metapone_1.3.2.tar.gz
###
##############################################################################
##############################################################################


* using log directory 'F:/biocbuild/bbs-3.16-bioc/meat/metapone.Rcheck'
* using R version 4.2.0 Patched (2022-06-02 r82447 ucrt)
* using platform: x86_64-w64-mingw32 (64-bit)
* using session charset: UTF-8
* using option '--no-vignettes'
* checking for file 'metapone/DESCRIPTION' ... OK
* checking extension type ... Package
* this is package 'metapone' version '1.3.2'
* checking package namespace information ... OK
* checking package dependencies ... NOTE
Depends: includes the non-default packages:
  'BiocParallel', 'fields', 'markdown', 'fdrtool', 'fgsea', 'ggplot2',
  'ggrepel'
Adding so many packages to the search path is excessive and importing
selectively is preferable.
* checking if this is a source package ... OK
* checking if there is a namespace ... OK
* checking for hidden files and directories ... OK
* checking for portable file names ... OK
* checking whether package 'metapone' can be installed ... OK
* checking installed package size ... OK
* checking package directory ... OK
* checking 'build' directory ... OK
* checking DESCRIPTION meta-information ... OK
* checking top-level files ... OK
* checking for left-over files ... OK
* checking index information ... OK
* checking package subdirectories ... OK
* checking R files for non-ASCII characters ... OK
* checking R files for syntax errors ... OK
* checking whether the package can be loaded ... OK
* checking whether the package can be loaded with stated dependencies ... OK
* checking whether the package can be unloaded cleanly ... OK
* checking whether the namespace can be loaded with stated dependencies ... OK
* checking whether the namespace can be unloaded cleanly ... OK
* checking dependencies in R code ... OK
* checking S3 generic/method consistency ... OK
* checking replacement functions ... OK
* checking foreign function calls ... OK
* checking R code for possible problems ... OK
* checking Rd files ... OK
* checking Rd metadata ... OK
* checking Rd cross-references ... OK
* checking for missing documentation entries ... OK
* checking for code/documentation mismatches ... OK
* checking Rd \usage sections ... OK
* checking Rd contents ... OK
* checking for unstated dependencies in examples ... OK
* checking contents of 'data' directory ... OK
* checking data for non-ASCII characters ... OK
* checking data for ASCII and uncompressed saves ... OK
* checking files in 'vignettes' ... OK
* checking examples ... OK
Examples with CPU (user + system) or elapsed time > 5s
                     user system elapsed
metapone            15.28   0.87  119.79
bbplot1d             5.69   0.43   45.57
hmdbCompMZ           5.95   0.02    5.97
bbplot2d             5.35   0.39   45.61
hmdbCompMZ.metapone  5.35   0.00    5.34
ptable               5.08   0.25   44.51
ftable               4.89   0.34   44.39
* checking for unstated dependencies in vignettes ... OK
* checking package vignettes in 'inst/doc' ... OK
* checking running R code from vignettes ... SKIPPED
* checking re-building of vignette outputs ... SKIPPED
* checking PDF version of manual ... OK
* DONE

Status: 1 NOTE
See
  'F:/biocbuild/bbs-3.16-bioc/meat/metapone.Rcheck/00check.log'
for details.



Installation output

metapone.Rcheck/00install.out

##############################################################################
##############################################################################
###
### Running command:
###
###   C:\cygwin\bin\curl.exe -O http://155.52.207.166/BBS/3.16/bioc/src/contrib/metapone_1.3.2.tar.gz && rm -rf metapone.buildbin-libdir && mkdir metapone.buildbin-libdir && F:\biocbuild\bbs-3.16-bioc\R\bin\R.exe CMD INSTALL --merge-multiarch --build --library=metapone.buildbin-libdir metapone_1.3.2.tar.gz && F:\biocbuild\bbs-3.16-bioc\R\bin\R.exe CMD INSTALL metapone_1.3.2.zip && rm metapone_1.3.2.tar.gz metapone_1.3.2.zip
###
##############################################################################
##############################################################################


  % Total    % Received % Xferd  Average Speed   Time    Time     Time  Current
                                 Dload  Upload   Total   Spent    Left  Speed

  0     0    0     0    0     0      0      0 --:--:-- --:--:-- --:--:--     0
 56 3761k   56 2143k    0     0   9.9M      0 --:--:-- --:--:-- --:--:--  9.9M
100 3761k  100 3761k    0     0  11.3M      0 --:--:-- --:--:-- --:--:-- 11.4M
only one architecture so ignoring '--merge-multiarch'
* installing *source* package 'metapone' ...
** using staged installation
** R
** data
** byte-compile and prepare package for lazy loading
Creating a new generic function for 'ftable' in package 'metapone'
** help
*** installing help indices
** building package indices
** installing vignettes
** testing if installed package can be loaded from temporary location
** testing if installed package can be loaded from final location
** testing if installed package keeps a record of temporary installation path
* MD5 sums
packaged installation of 'metapone' as metapone_1.3.2.zip
* DONE (metapone)
* installing to library 'F:/biocbuild/bbs-3.16-bioc/R/library'
package 'metapone' successfully unpacked and MD5 sums checked

Tests output


Example timings

metapone.Rcheck/metapone-Ex.timings

nameusersystemelapsed
bbplot1d 5.69 0.4345.57
bbplot2d 5.35 0.3945.61
ftable 4.89 0.3444.39
hmdbCompMZ5.950.025.97
hmdbCompMZ.metapone5.350.005.34
metapone 15.28 0.87119.79
neg0.020.020.04
pa0.030.000.03
pos0.030.000.03
ptable 5.08 0.2544.51